BEGIN:VCALENDAR
VERSION:2.0
PRODID:-//Diocese of Norwich - ECPv6.15.11//NONSGML v1.0//EN
CALSCALE:GREGORIAN
METHOD:PUBLISH
X-WR-CALNAME:Diocese of Norwich
X-ORIGINAL-URL:https://www.dioceseofnorwich.org
X-WR-CALDESC:Events for Diocese of Norwich
REFRESH-INTERVAL;VALUE=DURATION:PT1H
X-Robots-Tag:noindex
X-PUBLISHED-TTL:PT1H
BEGIN:VTIMEZONE
TZID:UTC
BEGIN:STANDARD
TZOFFSETFROM:+0000
TZOFFSETTO:+0000
TZNAME:UTC
DTSTART:20230101T000000
END:STANDARD
END:VTIMEZONE
BEGIN:VEVENT
DTSTART;TZID=UTC:20260410T143000
DTEND;TZID=UTC:20260410T150000
DTSTAMP:20260422T174515
CREATED:20241114T164246Z
LAST-MODIFIED:20250821T094443Z
UID:10001318-1775831400-1775833200@www.dioceseofnorwich.org
SUMMARY:LECTIO DIVINA - a way of being with scripture and other sacred texts
DESCRIPTION:We host a monthly group Lectio Divina session in the cathedral library\, on the SECOND FRIDAY of every month at 2.30pm. \nLectio Divina is a contemplative way of reading the Bible\, focusing on a short passage and allowing it to speak to us. The passage is read aloud\, and we may share a word or phrase that resonates with us\, but without discussion. It is a traditional Benedictine approach to the scriptures. \nOpen to all\, readings and full outline of the approach provided. Come along to try it out\, or contact Gudrun at gwarren@cathedral.org.uk if you would like to know more.
URL:https://www.dioceseofnorwich.org/event/lectio-divina-a-way-of-being-with-scripture-and-other-sacred-texts/2026-04-10/
LOCATION:Norwich Cathedral
CATEGORIES:Prayer,Worship
ATTACH;FMTTYPE=image/jpeg:https://www.dioceseofnorwich.org/wp-content/uploads/2024/11/Lectio-Divina.jpg
END:VEVENT
BEGIN:VEVENT
DTSTART;TZID=UTC:20260313T143000
DTEND;TZID=UTC:20260313T150000
DTSTAMP:20260422T174515
CREATED:20241114T164246Z
LAST-MODIFIED:20250821T094443Z
UID:10001317-1773412200-1773414000@www.dioceseofnorwich.org
SUMMARY:LECTIO DIVINA - a way of being with scripture and other sacred texts
DESCRIPTION:We host a monthly group Lectio Divina session in the cathedral library\, on the SECOND FRIDAY of every month at 2.30pm. \nLectio Divina is a contemplative way of reading the Bible\, focusing on a short passage and allowing it to speak to us. The passage is read aloud\, and we may share a word or phrase that resonates with us\, but without discussion. It is a traditional Benedictine approach to the scriptures. \nOpen to all\, readings and full outline of the approach provided. Come along to try it out\, or contact Gudrun at gwarren@cathedral.org.uk if you would like to know more.
URL:https://www.dioceseofnorwich.org/event/lectio-divina-a-way-of-being-with-scripture-and-other-sacred-texts/2026-03-13/
LOCATION:Norwich Cathedral
CATEGORIES:Prayer,Worship
ATTACH;FMTTYPE=image/jpeg:https://www.dioceseofnorwich.org/wp-content/uploads/2024/11/Lectio-Divina.jpg
END:VEVENT
BEGIN:VEVENT
DTSTART;TZID=UTC:20260213T143000
DTEND;TZID=UTC:20260213T150000
DTSTAMP:20260422T174515
CREATED:20241114T164246Z
LAST-MODIFIED:20250821T094443Z
UID:10001316-1770993000-1770994800@www.dioceseofnorwich.org
SUMMARY:LECTIO DIVINA - a way of being with scripture and other sacred texts
DESCRIPTION:We host a monthly group Lectio Divina session in the cathedral library\, on the SECOND FRIDAY of every month at 2.30pm. \nLectio Divina is a contemplative way of reading the Bible\, focusing on a short passage and allowing it to speak to us. The passage is read aloud\, and we may share a word or phrase that resonates with us\, but without discussion. It is a traditional Benedictine approach to the scriptures. \nOpen to all\, readings and full outline of the approach provided. Come along to try it out\, or contact Gudrun at gwarren@cathedral.org.uk if you would like to know more.
URL:https://www.dioceseofnorwich.org/event/lectio-divina-a-way-of-being-with-scripture-and-other-sacred-texts/2026-02-13/
LOCATION:Norwich Cathedral
CATEGORIES:Prayer,Worship
ATTACH;FMTTYPE=image/jpeg:https://www.dioceseofnorwich.org/wp-content/uploads/2024/11/Lectio-Divina.jpg
END:VEVENT
BEGIN:VEVENT
DTSTART;TZID=UTC:20260109T143000
DTEND;TZID=UTC:20260109T150000
DTSTAMP:20260422T174515
CREATED:20241114T164246Z
LAST-MODIFIED:20250821T094443Z
UID:10001315-1767969000-1767970800@www.dioceseofnorwich.org
SUMMARY:LECTIO DIVINA - a way of being with scripture and other sacred texts
DESCRIPTION:We host a monthly group Lectio Divina session in the cathedral library\, on the SECOND FRIDAY of every month at 2.30pm. \nLectio Divina is a contemplative way of reading the Bible\, focusing on a short passage and allowing it to speak to us. The passage is read aloud\, and we may share a word or phrase that resonates with us\, but without discussion. It is a traditional Benedictine approach to the scriptures. \nOpen to all\, readings and full outline of the approach provided. Come along to try it out\, or contact Gudrun at gwarren@cathedral.org.uk if you would like to know more.
URL:https://www.dioceseofnorwich.org/event/lectio-divina-a-way-of-being-with-scripture-and-other-sacred-texts/2026-01-09/
LOCATION:Norwich Cathedral
CATEGORIES:Prayer,Worship
ATTACH;FMTTYPE=image/jpeg:https://www.dioceseofnorwich.org/wp-content/uploads/2024/11/Lectio-Divina.jpg
END:VEVENT
BEGIN:VEVENT
DTSTART;TZID=UTC:20251212T143000
DTEND;TZID=UTC:20251212T150000
DTSTAMP:20260422T174515
CREATED:20241114T164246Z
LAST-MODIFIED:20250821T094443Z
UID:10001314-1765549800-1765551600@www.dioceseofnorwich.org
SUMMARY:LECTIO DIVINA - a way of being with scripture and other sacred texts
DESCRIPTION:We host a monthly group Lectio Divina session in the cathedral library\, on the SECOND FRIDAY of every month at 2.30pm. \nLectio Divina is a contemplative way of reading the Bible\, focusing on a short passage and allowing it to speak to us. The passage is read aloud\, and we may share a word or phrase that resonates with us\, but without discussion. It is a traditional Benedictine approach to the scriptures. \nOpen to all\, readings and full outline of the approach provided. Come along to try it out\, or contact Gudrun at gwarren@cathedral.org.uk if you would like to know more.
URL:https://www.dioceseofnorwich.org/event/lectio-divina-a-way-of-being-with-scripture-and-other-sacred-texts/2025-12-12/
LOCATION:Norwich Cathedral
CATEGORIES:Prayer,Worship
ATTACH;FMTTYPE=image/jpeg:https://www.dioceseofnorwich.org/wp-content/uploads/2024/11/Lectio-Divina.jpg
END:VEVENT
BEGIN:VEVENT
DTSTART;TZID=UTC:20251114T143000
DTEND;TZID=UTC:20251114T150000
DTSTAMP:20260422T174515
CREATED:20241114T164246Z
LAST-MODIFIED:20250821T094443Z
UID:10001313-1763130600-1763132400@www.dioceseofnorwich.org
SUMMARY:LECTIO DIVINA - a way of being with scripture and other sacred texts
DESCRIPTION:We host a monthly group Lectio Divina session in the cathedral library\, on the SECOND FRIDAY of every month at 2.30pm. \nLectio Divina is a contemplative way of reading the Bible\, focusing on a short passage and allowing it to speak to us. The passage is read aloud\, and we may share a word or phrase that resonates with us\, but without discussion. It is a traditional Benedictine approach to the scriptures. \nOpen to all\, readings and full outline of the approach provided. Come along to try it out\, or contact Gudrun at gwarren@cathedral.org.uk if you would like to know more.
URL:https://www.dioceseofnorwich.org/event/lectio-divina-a-way-of-being-with-scripture-and-other-sacred-texts/2025-11-14/
LOCATION:Norwich Cathedral
CATEGORIES:Prayer,Worship
ATTACH;FMTTYPE=image/jpeg:https://www.dioceseofnorwich.org/wp-content/uploads/2024/11/Lectio-Divina.jpg
END:VEVENT
BEGIN:VEVENT
DTSTART;TZID=UTC:20251026T173000
DTEND;TZID=UTC:20251026T190000
DTSTAMP:20260422T174515
CREATED:20250905T111054Z
LAST-MODIFIED:20251009T144130Z
UID:10001795-1761499800-1761505200@www.dioceseofnorwich.org
SUMMARY:Black History Month Celebration Service 2025
DESCRIPTION:On Sunday 26 October 2025\, Choral Evensong at Norwich Cathedral will commemorate Black History Month. \nThis follows the hugely successful first ever Black History Month Celebration Service in 2024. \nMore details to follow.
URL:https://www.dioceseofnorwich.org/event/black-history-month-celebration-service-2025/
LOCATION:Norwich Cathedral
CATEGORIES:Services
ATTACH;FMTTYPE=image/png:https://www.dioceseofnorwich.org/wp-content/uploads/2025/09/BLACK-HISTORY-MONTH-2-scaled.png
END:VEVENT
BEGIN:VEVENT
DTSTART;TZID=UTC:20251010T143000
DTEND;TZID=UTC:20251010T150000
DTSTAMP:20260422T174515
CREATED:20241114T164246Z
LAST-MODIFIED:20250821T094443Z
UID:10001312-1760106600-1760108400@www.dioceseofnorwich.org
SUMMARY:LECTIO DIVINA - a way of being with scripture and other sacred texts
DESCRIPTION:We host a monthly group Lectio Divina session in the cathedral library\, on the SECOND FRIDAY of every month at 2.30pm. \nLectio Divina is a contemplative way of reading the Bible\, focusing on a short passage and allowing it to speak to us. The passage is read aloud\, and we may share a word or phrase that resonates with us\, but without discussion. It is a traditional Benedictine approach to the scriptures. \nOpen to all\, readings and full outline of the approach provided. Come along to try it out\, or contact Gudrun at gwarren@cathedral.org.uk if you would like to know more.
URL:https://www.dioceseofnorwich.org/event/lectio-divina-a-way-of-being-with-scripture-and-other-sacred-texts/2025-10-10/
LOCATION:Norwich Cathedral
CATEGORIES:Prayer,Worship
ATTACH;FMTTYPE=image/jpeg:https://www.dioceseofnorwich.org/wp-content/uploads/2024/11/Lectio-Divina.jpg
END:VEVENT
BEGIN:VEVENT
DTSTART;TZID=UTC:20250912T143000
DTEND;TZID=UTC:20250912T150000
DTSTAMP:20260422T174515
CREATED:20241114T164246Z
LAST-MODIFIED:20250821T094443Z
UID:10001311-1757687400-1757689200@www.dioceseofnorwich.org
SUMMARY:LECTIO DIVINA - a way of being with scripture and other sacred texts
DESCRIPTION:We host a monthly group Lectio Divina session in the cathedral library\, on the SECOND FRIDAY of every month at 2.30pm. \nLectio Divina is a contemplative way of reading the Bible\, focusing on a short passage and allowing it to speak to us. The passage is read aloud\, and we may share a word or phrase that resonates with us\, but without discussion. It is a traditional Benedictine approach to the scriptures. \nOpen to all\, readings and full outline of the approach provided. Come along to try it out\, or contact Gudrun at gwarren@cathedral.org.uk if you would like to know more.
URL:https://www.dioceseofnorwich.org/event/lectio-divina-a-way-of-being-with-scripture-and-other-sacred-texts/2025-09-12/
LOCATION:Norwich Cathedral
CATEGORIES:Prayer,Worship
ATTACH;FMTTYPE=image/jpeg:https://www.dioceseofnorwich.org/wp-content/uploads/2024/11/Lectio-Divina.jpg
END:VEVENT
BEGIN:VEVENT
DTSTART;TZID=UTC:20250808T143000
DTEND;TZID=UTC:20250808T150000
DTSTAMP:20260422T174515
CREATED:20241114T164246Z
LAST-MODIFIED:20250821T094443Z
UID:10001310-1754663400-1754665200@www.dioceseofnorwich.org
SUMMARY:LECTIO DIVINA - a way of being with scripture and other sacred texts
DESCRIPTION:We host a monthly group Lectio Divina session in the cathedral library\, on the SECOND FRIDAY of every month at 2.30pm. \nLectio Divina is a contemplative way of reading the Bible\, focusing on a short passage and allowing it to speak to us. The passage is read aloud\, and we may share a word or phrase that resonates with us\, but without discussion. It is a traditional Benedictine approach to the scriptures. \nOpen to all\, readings and full outline of the approach provided. Come along to try it out\, or contact Gudrun at gwarren@cathedral.org.uk if you would like to know more.
URL:https://www.dioceseofnorwich.org/event/lectio-divina-a-way-of-being-with-scripture-and-other-sacred-texts/2025-08-08/
LOCATION:Norwich Cathedral
CATEGORIES:Prayer,Worship
ATTACH;FMTTYPE=image/jpeg:https://www.dioceseofnorwich.org/wp-content/uploads/2024/11/Lectio-Divina.jpg
END:VEVENT
BEGIN:VEVENT
DTSTART;TZID=UTC:20250711T143000
DTEND;TZID=UTC:20250711T150000
DTSTAMP:20260422T174515
CREATED:20241114T164246Z
LAST-MODIFIED:20250821T094443Z
UID:10001309-1752244200-1752246000@www.dioceseofnorwich.org
SUMMARY:LECTIO DIVINA - a way of being with scripture and other sacred texts
DESCRIPTION:We host a monthly group Lectio Divina session in the cathedral library\, on the SECOND FRIDAY of every month at 2.30pm. \nLectio Divina is a contemplative way of reading the Bible\, focusing on a short passage and allowing it to speak to us. The passage is read aloud\, and we may share a word or phrase that resonates with us\, but without discussion. It is a traditional Benedictine approach to the scriptures. \nOpen to all\, readings and full outline of the approach provided. Come along to try it out\, or contact Gudrun at gwarren@cathedral.org.uk if you would like to know more.
URL:https://www.dioceseofnorwich.org/event/lectio-divina-a-way-of-being-with-scripture-and-other-sacred-texts/2025-07-11/
LOCATION:Norwich Cathedral
CATEGORIES:Prayer,Worship
ATTACH;FMTTYPE=image/jpeg:https://www.dioceseofnorwich.org/wp-content/uploads/2024/11/Lectio-Divina.jpg
END:VEVENT
BEGIN:VEVENT
DTSTART;TZID=UTC:20250613T143000
DTEND;TZID=UTC:20250613T150000
DTSTAMP:20260422T174515
CREATED:20241114T164246Z
LAST-MODIFIED:20250821T094443Z
UID:10001308-1749825000-1749826800@www.dioceseofnorwich.org
SUMMARY:LECTIO DIVINA - a way of being with scripture and other sacred texts
DESCRIPTION:We host a monthly group Lectio Divina session in the cathedral library\, on the SECOND FRIDAY of every month at 2.30pm. \nLectio Divina is a contemplative way of reading the Bible\, focusing on a short passage and allowing it to speak to us. The passage is read aloud\, and we may share a word or phrase that resonates with us\, but without discussion. It is a traditional Benedictine approach to the scriptures. \nOpen to all\, readings and full outline of the approach provided. Come along to try it out\, or contact Gudrun at gwarren@cathedral.org.uk if you would like to know more.
URL:https://www.dioceseofnorwich.org/event/lectio-divina-a-way-of-being-with-scripture-and-other-sacred-texts/2025-06-13/
LOCATION:Norwich Cathedral
CATEGORIES:Prayer,Worship
ATTACH;FMTTYPE=image/jpeg:https://www.dioceseofnorwich.org/wp-content/uploads/2024/11/Lectio-Divina.jpg
END:VEVENT
BEGIN:VEVENT
DTSTART;TZID=UTC:20250509T143000
DTEND;TZID=UTC:20250509T150000
DTSTAMP:20260422T174515
CREATED:20241114T164246Z
LAST-MODIFIED:20250821T094443Z
UID:10001307-1746801000-1746802800@www.dioceseofnorwich.org
SUMMARY:LECTIO DIVINA - a way of being with scripture and other sacred texts
DESCRIPTION:We host a monthly group Lectio Divina session in the cathedral library\, on the SECOND FRIDAY of every month at 2.30pm. \nLectio Divina is a contemplative way of reading the Bible\, focusing on a short passage and allowing it to speak to us. The passage is read aloud\, and we may share a word or phrase that resonates with us\, but without discussion. It is a traditional Benedictine approach to the scriptures. \nOpen to all\, readings and full outline of the approach provided. Come along to try it out\, or contact Gudrun at gwarren@cathedral.org.uk if you would like to know more.
URL:https://www.dioceseofnorwich.org/event/lectio-divina-a-way-of-being-with-scripture-and-other-sacred-texts/2025-05-09/
LOCATION:Norwich Cathedral
CATEGORIES:Prayer,Worship
ATTACH;FMTTYPE=image/jpeg:https://www.dioceseofnorwich.org/wp-content/uploads/2024/11/Lectio-Divina.jpg
END:VEVENT
BEGIN:VEVENT
DTSTART;TZID=UTC:20250503T093000
DTEND;TZID=UTC:20250503T210000
DTSTAMP:20260422T174515
CREATED:20241115T142014Z
LAST-MODIFIED:20250402T132100Z
UID:10001362-1746264600-1746306000@www.dioceseofnorwich.org
SUMMARY:Rooted as Pilgrims
DESCRIPTION:A 12 hour pilgrimage day for young people who have recently been baptised\, confirmed or just want to deepen their walk of faith with Jesus. \nYou are invited to join with other young people for this reflective walk of pilgrimage as we spend time thinking about what it means to be rooted in our faith. We will spend time walking\, talking\, eating\, and learning from each other\, finishing with the unique experience of exploring Norwich Cathedral ‘after hours’
URL:https://www.dioceseofnorwich.org/event/rooted-as-pilgrims-2/
LOCATION:Norwich Cathedral
CATEGORIES:Children, Youth & Families
ATTACH;FMTTYPE=image/jpeg:https://www.dioceseofnorwich.org/wp-content/uploads/2024/12/CYF-Rooted-Landscape-Graphic-2025.jpg
ORGANIZER;CN="Children%2C Youth and Families Team":MAILTO:cyf@dioceseofnorwich.org
END:VEVENT
BEGIN:VEVENT
DTSTART;TZID=UTC:20250426T100000
DTEND;TZID=UTC:20250426T150000
DTSTAMP:20260422T174515
CREATED:20250120T113716Z
LAST-MODIFIED:20250120T113716Z
UID:10001642-1745661600-1745679600@www.dioceseofnorwich.org
SUMMARY:At Home With God: Experiencing Faith in Families
DESCRIPTION:Worship Together\, Pray Together\, Play Together\nFamily is at the heart of faith formation so join us at Norwich Cathedral for an exciting day as families gather together to worship\, pray and play; exploring and experiencing family faith practices through a programme of pick ‘n’ mix seminars and activities. \n· Youth Led Worship \n· Family reflection \n· Children\, Youth and Parent sessions \n· Pick ‘n’ mix resources gift \n· Play – inflatables\, football cage & activities \n· Pray – interactive prayer spaces \n· Stay – hang about after the end to explore some more… \n 
URL:https://www.dioceseofnorwich.org/event/at-home-with-god/
LOCATION:Norwich Cathedral
ATTACH;FMTTYPE=image/jpeg:https://www.dioceseofnorwich.org/wp-content/uploads/2025/01/CYF-At-Home-with-God-Landscape-Graphic-2025.jpg
ORGANIZER;CN="Children%2C Youth and Families Team":MAILTO:cyf@dioceseofnorwich.org
END:VEVENT
BEGIN:VEVENT
DTSTART;TZID=UTC:20250411T143000
DTEND;TZID=UTC:20250411T150000
DTSTAMP:20260422T174515
CREATED:20241114T164246Z
LAST-MODIFIED:20250821T094443Z
UID:10001306-1744381800-1744383600@www.dioceseofnorwich.org
SUMMARY:LECTIO DIVINA - a way of being with scripture and other sacred texts
DESCRIPTION:We host a monthly group Lectio Divina session in the cathedral library\, on the SECOND FRIDAY of every month at 2.30pm. \nLectio Divina is a contemplative way of reading the Bible\, focusing on a short passage and allowing it to speak to us. The passage is read aloud\, and we may share a word or phrase that resonates with us\, but without discussion. It is a traditional Benedictine approach to the scriptures. \nOpen to all\, readings and full outline of the approach provided. Come along to try it out\, or contact Gudrun at gwarren@cathedral.org.uk if you would like to know more.
URL:https://www.dioceseofnorwich.org/event/lectio-divina-a-way-of-being-with-scripture-and-other-sacred-texts/2025-04-11/
LOCATION:Norwich Cathedral
CATEGORIES:Prayer,Worship
ATTACH;FMTTYPE=image/jpeg:https://www.dioceseofnorwich.org/wp-content/uploads/2024/11/Lectio-Divina.jpg
END:VEVENT
BEGIN:VEVENT
DTSTART;VALUE=DATE:20250327
DTEND;VALUE=DATE:20250328
DTSTAMP:20260422T174515
CREATED:20240904T092044Z
LAST-MODIFIED:20250109T160350Z
UID:10001248-1743033600-1743119999@www.dioceseofnorwich.org
SUMMARY:Headteachers Conference
DESCRIPTION:Headteachers’ Conference 2025 – Thursday 27th March\n8:45am-5:00pm\n\nLocation\nNorwich Cathedral\, The Close\, Norwich\, NR1 4EH\n\nAbout This Event\nOur aim is to offer a different slant to other education conferences and explore aspects pertinent to leading a church school based on the national Church of England ‘Vison for Education; deeply Christian\, serving the common good’. Details of the theme and speakers will be available in early 2025.\n\nLunch provided.\n\nAudience\nHeadteachers working in church schools or academies.\n\nGeneral admission is free.\n\nLink to the event on Eventbrite’s website: https://www.eventbrite.com/e/headteachers-conference-2025-tickets-888282335377?aff=oddtdtcreator
URL:https://www.dioceseofnorwich.org/event/headteachers-conference-2/
LOCATION:Norwich Cathedral
CATEGORIES:Schools & Academies
END:VEVENT
BEGIN:VEVENT
DTSTART;TZID=UTC:20250314T143000
DTEND;TZID=UTC:20250314T150000
DTSTAMP:20260422T174515
CREATED:20241114T164246Z
LAST-MODIFIED:20250821T094443Z
UID:10001305-1741962600-1741964400@www.dioceseofnorwich.org
SUMMARY:LECTIO DIVINA - a way of being with scripture and other sacred texts
DESCRIPTION:We host a monthly group Lectio Divina session in the cathedral library\, on the SECOND FRIDAY of every month at 2.30pm. \nLectio Divina is a contemplative way of reading the Bible\, focusing on a short passage and allowing it to speak to us. The passage is read aloud\, and we may share a word or phrase that resonates with us\, but without discussion. It is a traditional Benedictine approach to the scriptures. \nOpen to all\, readings and full outline of the approach provided. Come along to try it out\, or contact Gudrun at gwarren@cathedral.org.uk if you would like to know more.
URL:https://www.dioceseofnorwich.org/event/lectio-divina-a-way-of-being-with-scripture-and-other-sacred-texts/2025-03-14/
LOCATION:Norwich Cathedral
CATEGORIES:Prayer,Worship
ATTACH;FMTTYPE=image/jpeg:https://www.dioceseofnorwich.org/wp-content/uploads/2024/11/Lectio-Divina.jpg
END:VEVENT
BEGIN:VEVENT
DTSTART;TZID=UTC:20250214T143000
DTEND;TZID=UTC:20250214T150000
DTSTAMP:20260422T174515
CREATED:20241114T164246Z
LAST-MODIFIED:20250821T094443Z
UID:10001304-1739543400-1739545200@www.dioceseofnorwich.org
SUMMARY:LECTIO DIVINA - a way of being with scripture and other sacred texts
DESCRIPTION:We host a monthly group Lectio Divina session in the cathedral library\, on the SECOND FRIDAY of every month at 2.30pm. \nLectio Divina is a contemplative way of reading the Bible\, focusing on a short passage and allowing it to speak to us. The passage is read aloud\, and we may share a word or phrase that resonates with us\, but without discussion. It is a traditional Benedictine approach to the scriptures. \nOpen to all\, readings and full outline of the approach provided. Come along to try it out\, or contact Gudrun at gwarren@cathedral.org.uk if you would like to know more.
URL:https://www.dioceseofnorwich.org/event/lectio-divina-a-way-of-being-with-scripture-and-other-sacred-texts/2025-02-14/
LOCATION:Norwich Cathedral
CATEGORIES:Prayer,Worship
ATTACH;FMTTYPE=image/jpeg:https://www.dioceseofnorwich.org/wp-content/uploads/2024/11/Lectio-Divina.jpg
END:VEVENT
BEGIN:VEVENT
DTSTART;TZID=UTC:20250110T143000
DTEND;TZID=UTC:20250110T150000
DTSTAMP:20260422T174515
CREATED:20241114T164246Z
LAST-MODIFIED:20250821T094443Z
UID:10001303-1736519400-1736521200@www.dioceseofnorwich.org
SUMMARY:LECTIO DIVINA - a way of being with scripture and other sacred texts
DESCRIPTION:We host a monthly group Lectio Divina session in the cathedral library\, on the SECOND FRIDAY of every month at 2.30pm. \nLectio Divina is a contemplative way of reading the Bible\, focusing on a short passage and allowing it to speak to us. The passage is read aloud\, and we may share a word or phrase that resonates with us\, but without discussion. It is a traditional Benedictine approach to the scriptures. \nOpen to all\, readings and full outline of the approach provided. Come along to try it out\, or contact Gudrun at gwarren@cathedral.org.uk if you would like to know more.
URL:https://www.dioceseofnorwich.org/event/lectio-divina-a-way-of-being-with-scripture-and-other-sacred-texts/2025-01-10/
LOCATION:Norwich Cathedral
CATEGORIES:Prayer,Worship
ATTACH;FMTTYPE=image/jpeg:https://www.dioceseofnorwich.org/wp-content/uploads/2024/11/Lectio-Divina.jpg
END:VEVENT
BEGIN:VEVENT
DTSTART;TZID=UTC:20241213T143000
DTEND;TZID=UTC:20241213T150000
DTSTAMP:20260422T174515
CREATED:20241114T164246Z
LAST-MODIFIED:20250821T094443Z
UID:10001302-1734100200-1734102000@www.dioceseofnorwich.org
SUMMARY:LECTIO DIVINA - a way of being with scripture and other sacred texts
DESCRIPTION:We host a monthly group Lectio Divina session in the cathedral library\, on the SECOND FRIDAY of every month at 2.30pm. \nLectio Divina is a contemplative way of reading the Bible\, focusing on a short passage and allowing it to speak to us. The passage is read aloud\, and we may share a word or phrase that resonates with us\, but without discussion. It is a traditional Benedictine approach to the scriptures. \nOpen to all\, readings and full outline of the approach provided. Come along to try it out\, or contact Gudrun at gwarren@cathedral.org.uk if you would like to know more.
URL:https://www.dioceseofnorwich.org/event/lectio-divina-a-way-of-being-with-scripture-and-other-sacred-texts/2024-12-13/
LOCATION:Norwich Cathedral
CATEGORIES:Prayer,Worship
ATTACH;FMTTYPE=image/jpeg:https://www.dioceseofnorwich.org/wp-content/uploads/2024/11/Lectio-Divina.jpg
END:VEVENT
BEGIN:VEVENT
DTSTART;TZID=UTC:20241112T183000
DTEND;TZID=UTC:20241112T194500
DTSTAMP:20260422T174515
CREATED:20241003T134917Z
LAST-MODIFIED:20241104T134415Z
UID:10001276-1731436200-1731440700@www.dioceseofnorwich.org
SUMMARY:ECO FORUM - Changing Perspectives: seeing creation differently
DESCRIPTION:You are warmly invited to a creation pilgrimage around Norwich Cathedral.  In the stillness of the evening come and discover how this ancient building can help us get a fresh perspective on our present day environmental challenges.  Come and see the building in new and unusual ways and leave with a refreshed view of God’s wonderful creation. \nThe creation pilgrimage takes place on Tuesday 12th November  and will begin at 6.30 by the Pelican Lectern under the tower of the Cathedral. \nParking is available in The Close.  Please enter the Cathedral by the South Door – the door nearest the car park with a clock over the door.  The pilgrimage will last approximately 75 minutes.  Please note: we will be accessing some of the spiral staircases within the Cathedral. \nIn preparation for the creation pilgrimage you are welcome to join us for Choral Evensong at 5.30; let the music and words of the evening office calm and inspire you\, preparing your mind and soul to see creation differently. \n 
URL:https://www.dioceseofnorwich.org/event/eco-forum-changing-perspectives-seeing-creation-differently/
LOCATION:Norwich Cathedral
CATEGORIES:Environment
ATTACH;FMTTYPE=image/png:https://www.dioceseofnorwich.org/wp-content/uploads/2024/10/green-man-roof-boss.png
ORGANIZER;CN="Barbara Bryant":MAILTO:barbara.bryant@dioceseofnorwich.org
END:VEVENT
BEGIN:VEVENT
DTSTART;TZID=UTC:20240921T190000
DTEND;TZID=UTC:20240921T213000
DTSTAMP:20260422T174515
CREATED:20240612T183207Z
LAST-MODIFIED:20240612T183256Z
UID:10001068-1726945200-1726954200@www.dioceseofnorwich.org
SUMMARY:London Welsh Male Voice Choir Concert
DESCRIPTION:A Charity Concert in aid of Priscilla Bacon Hospice Charity. \nFeaturing the London Welsh Male Voice Choir and the Waterbeach Brass. \nThe London Welsh Male Voice Choir brings a range of new music and traditional songs all in aid of the Priscilla Bacon Hospice.\nThe choir has recently performed at Westminster Cathedral\, Ely Cathedral\, Cardiff Principality Stadium and Stonehenge and will bring the unique sound of accomplished male voice choir to Norwich Cathedral for the first time since 2006.\nThe choir will be joined by Waterbeach Brass who performed with the choir in Ely to much acclaim.\nThe choir will be led by Musical Director\, Dr Edward-Rhys Harry\, and accompanist Annabel Thwaite.\nThe concert is being organised by Yare Valley Rotary Club and Rotary in Norwich. \nBook tickets below or call 01603 702281
URL:https://www.dioceseofnorwich.org/event/london-welsh-male-voice-choir-concert/
LOCATION:Norwich Cathedral
CATEGORIES:Arts
ATTACH;FMTTYPE=image/jpeg:https://www.dioceseofnorwich.org/wp-content/uploads/2024/06/IMG_0294-e1718217120607.jpeg
END:VEVENT
BEGIN:VEVENT
DTSTART;VALUE=DATE:20240910
DTEND;VALUE=DATE:20240911
DTSTAMP:20260422T174515
CREATED:20240905T145032Z
LAST-MODIFIED:20240905T145032Z
UID:10001253-1725926400-1726012799@www.dioceseofnorwich.org
SUMMARY:Celebration of Norfolk joining St Olav Ways
DESCRIPTION:The addition of Norfolk to the route of St Olav Ways\, an accredited Cultural Route of the Council of Europe celebrating the first Christian King and Patron Saint of Norway\, will be celebrated at a special event exploring the historic connections between Norway and various parts of the United Kingdom. \nHeld at Norwich Cathedral on Tuesday 10 September\, the symposium will host a representative of the Royal Norwegian Embassy along with a range of experts from Norway as well as churches and heritage sites in the Orkney Islands\, the Isle of Man\, London\, Cumbria\, Chester and York.
URL:https://www.dioceseofnorwich.org/event/celebration-of-norfolk-joining-st-olav-ways/
LOCATION:Norwich Cathedral
ATTACH;FMTTYPE=image/jpeg:https://www.dioceseofnorwich.org/wp-content/uploads/2024/09/©-Elisa-Kartum.jpg
END:VEVENT
END:VCALENDAR