BEGIN:VCALENDAR
VERSION:2.0
PRODID:-//Diocese of Norwich - ECPv6.15.11//NONSGML v1.0//EN
CALSCALE:GREGORIAN
METHOD:PUBLISH
X-ORIGINAL-URL:https://www.dioceseofnorwich.org
X-WR-CALDESC:Events for Diocese of Norwich
REFRESH-INTERVAL;VALUE=DURATION:PT1H
X-Robots-Tag:noindex
X-PUBLISHED-TTL:PT1H
BEGIN:VTIMEZONE
TZID:UTC
BEGIN:STANDARD
TZOFFSETFROM:+0000
TZOFFSETTO:+0000
TZNAME:UTC
DTSTART:20230101T000000
END:STANDARD
END:VTIMEZONE
BEGIN:VEVENT
DTSTART;VALUE=DATE:20241005
DTEND;VALUE=DATE:20241006
DTSTAMP:20260423T200247
CREATED:20240909T080301Z
LAST-MODIFIED:20240909T080301Z
UID:10001258-1728086400-1728172799@www.dioceseofnorwich.org
SUMMARY:Rake and cake
DESCRIPTION:Rake and Cake to help wildlife and caring for the church yard -Geldeston church yard is a conservation site and hosts wildflowers including orchids\, and reptile populations but to maintain these populations we need help with raking up the cut grass -all who rake will be given cake -so come along from 10.30am with your gloves and rake\, and get active! Bring a team and compete with other rakers! \nIn the afternoon from 2.30-4.30pm the recently formed quintet Qwind Essential will be playing an eclectic mix of music for all to enjoy whilst admiring the floral decorations in the historic round tower church\, 5October and having tea and homemade cakes!\nDonations in aid of the church restoration fund.
URL:https://www.dioceseofnorwich.org/event/rake-and-cake/
LOCATION:St Micheal and All Angels\, Geldeston\, Old Yarmouth Road Geldeston Beccles\, NR34 0LW
CATEGORIES:Environment
ORGANIZER;CN="Catherine Bickmore":MAILTO:tidingsmag@gmail.com
END:VEVENT
BEGIN:VEVENT
DTSTART;TZID=UTC:20240309T150000
DTEND;TZID=UTC:20240309T170000
DTSTAMP:20260423T200247
CREATED:20240229T133006Z
LAST-MODIFIED:20240229T133006Z
UID:10000938-1709996400-1710003600@www.dioceseofnorwich.org
SUMMARY:Geldeston gets literary - Awards Ceremony:  Stories of mystery & imagination!
DESCRIPTION:Award ceremony for short storey writing competition inspired by two replacement stone carvings on the exterior of the church \nListen to the short listed stories inspired by Geldeston monks. \n• Enjoy tea & homemade cakes \n• Visit the flower filled church yard \nAll welcome \nThe judge and author Lucy Lethbridge* will be giving the awards.
URL:https://www.dioceseofnorwich.org/event/geldeston-gets-literary-awards-ceremony-stories-of-mystery-imagination/
LOCATION:St Micheal and All Angels\, Geldeston\, Old Yarmouth Road Geldeston Beccles\, NR34 0LW
CATEGORIES:Arts,Environment,Talks
ORGANIZER;CN="Catherine Bickmore":MAILTO:tidingsmag@gmail.com
END:VEVENT
END:VCALENDAR