BEGIN:VCALENDAR
VERSION:2.0
PRODID:-//Diocese of Norwich - ECPv6.15.11//NONSGML v1.0//EN
CALSCALE:GREGORIAN
METHOD:PUBLISH
X-ORIGINAL-URL:https://www.dioceseofnorwich.org
X-WR-CALDESC:Events for Diocese of Norwich
REFRESH-INTERVAL;VALUE=DURATION:PT1H
X-Robots-Tag:noindex
X-PUBLISHED-TTL:PT1H
BEGIN:VTIMEZONE
TZID:UTC
BEGIN:STANDARD
TZOFFSETFROM:+0000
TZOFFSETTO:+0000
TZNAME:UTC
DTSTART:20230101T000000
END:STANDARD
END:VTIMEZONE
BEGIN:VEVENT
DTSTART;TZID=UTC:20240313T200000
DTEND;TZID=UTC:20240313T213000
DTSTAMP:20260420T053942
CREATED:20240304T102644Z
LAST-MODIFIED:20240304T102744Z
UID:10000960-1710360000-1710365400@www.dioceseofnorwich.org
SUMMARY:Parenting Teens Course: online training event
DESCRIPTION:Come and learn all about our brand new Parenting Teens course! Whether you’re a youth leader wanting to engage parents\, or a church leader supporting parents of tweens and teens\, this training event will inspire you with what’s possible when we equip whole families for discipleship. We’ll go through the nuts and bolts of our exciting six-session course and answer any questions you have. By the end of the session\, you’ll feel envisioned and confident to run a Parenting Teens course in your church or community.
URL:https://www.dioceseofnorwich.org/event/parenting-teens-course-online-training-event/2024-03-13/2/
LOCATION:online
CATEGORIES:Children, Youth & Families,Talks,Young Adults
ORGANIZER;CN="BRF":MAILTO:enquiries@brf.org.uk
END:VEVENT
BEGIN:VEVENT
DTSTART;TZID=UTC:20240313T100000
DTEND;TZID=UTC:20240313T113000
DTSTAMP:20260420T053942
CREATED:20240304T102644Z
LAST-MODIFIED:20240304T102744Z
UID:10000959-1710324000-1710329400@www.dioceseofnorwich.org
SUMMARY:Parenting Teens Course: online training event
DESCRIPTION:Come and learn all about our brand new Parenting Teens course! Whether you’re a youth leader wanting to engage parents\, or a church leader supporting parents of tweens and teens\, this training event will inspire you with what’s possible when we equip whole families for discipleship. We’ll go through the nuts and bolts of our exciting six-session course and answer any questions you have. By the end of the session\, you’ll feel envisioned and confident to run a Parenting Teens course in your church or community.
URL:https://www.dioceseofnorwich.org/event/parenting-teens-course-online-training-event/2024-03-13/1/
LOCATION:online
CATEGORIES:Children, Youth & Families,Talks,Young Adults
ORGANIZER;CN="BRF":MAILTO:enquiries@brf.org.uk
END:VEVENT
END:VCALENDAR