BEGIN:VCALENDAR
VERSION:2.0
PRODID:-//Diocese of Norwich - ECPv6.15.11//NONSGML v1.0//EN
CALSCALE:GREGORIAN
METHOD:PUBLISH
X-ORIGINAL-URL:https://www.dioceseofnorwich.org
X-WR-CALDESC:Events for Diocese of Norwich
REFRESH-INTERVAL;VALUE=DURATION:PT1H
X-Robots-Tag:noindex
X-PUBLISHED-TTL:PT1H
BEGIN:VTIMEZONE
TZID:UTC
BEGIN:STANDARD
TZOFFSETFROM:+0000
TZOFFSETTO:+0000
TZNAME:UTC
DTSTART:20250101T000000
END:STANDARD
END:VTIMEZONE
BEGIN:VEVENT
DTSTART;TZID=UTC:20260113T180000
DTEND;TZID=UTC:20260113T190000
DTSTAMP:20260422T205433
CREATED:20251216T143715Z
LAST-MODIFIED:20251216T143715Z
UID:10001820-1768327200-1768330800@www.dioceseofnorwich.org
SUMMARY:Eco Church Support - Zoom Drop-in session
DESCRIPTION:EVENT RUN BY THE DIOCESE OF ELY \nFor this session\, we are delighted to be joined by Rosie Venner from Just Money.  Rosie will talk about greener finances for churches\, including banking\, purchasing and investing\, with time to answer your questions. \nDate: Tuesday 13 January \nTime: 6.00 – 7.00pm \nVenue: Online\, via Zoom \nBooking: https://elydatabase.org/events/view?course=4505 \nThese regional Eco Church support sessions are an opportunity to share success\, obstacles and challenges you may be experiencing\, seek support and support others. \nWhether you’re seeking advice\, wanting to listen in to the chat\, or have lots of experience you’re happy to share\, please join us for this informal session for people to chat about what you are doing to work towards Eco Church Awards.
URL:https://www.dioceseofnorwich.org/event/eco-church-support-zoom-drop-in-session/
CATEGORIES:Environment
ATTACH;FMTTYPE=image/png:https://www.dioceseofnorwich.org/wp-content/uploads/2025/11/Eco-Church-Support-Zoom-Session-13-jan.png
END:VEVENT
END:VCALENDAR