BEGIN:VCALENDAR
VERSION:2.0
PRODID:-//Diocese of Norwich - ECPv6.15.11//NONSGML v1.0//EN
CALSCALE:GREGORIAN
METHOD:PUBLISH
X-WR-CALNAME:Diocese of Norwich
X-ORIGINAL-URL:https://www.dioceseofnorwich.org
X-WR-CALDESC:Events for Diocese of Norwich
REFRESH-INTERVAL;VALUE=DURATION:PT1H
X-Robots-Tag:noindex
X-PUBLISHED-TTL:PT1H
BEGIN:VTIMEZONE
TZID:UTC
BEGIN:STANDARD
TZOFFSETFROM:+0000
TZOFFSETTO:+0000
TZNAME:UTC
DTSTART:20230101T000000
END:STANDARD
END:VTIMEZONE
BEGIN:VEVENT
DTSTART;TZID=UTC:20241130T100000
DTEND;TZID=UTC:20241130T140000
DTSTAMP:20260425T153302
CREATED:20240930T073430Z
LAST-MODIFIED:20240930T073430Z
UID:10001272-1732960800-1732975200@www.dioceseofnorwich.org
SUMMARY:Christmas Fayre
DESCRIPTION:Christmas Fayre – Saturday 30th November – 10am – 2pm\nStalls\, Games\, Music and Refreshments\nFree Entry\, all welcome\nVenue: St. Andrew’s Church\, Church Road\, Gorleston\, Norfolk NR31 6LR
URL:https://www.dioceseofnorwich.org/event/christmas-fayre-2/
CATEGORIES:Christmas,Fetes, fairs and fundraisers
END:VEVENT
BEGIN:VEVENT
DTSTART;TZID=UTC:20240720T100000
DTEND;TZID=UTC:20240720T100000
DTSTAMP:20260425T153302
CREATED:20240515T142537Z
LAST-MODIFIED:20240515T142537Z
UID:10001035-1721469600-1721469600@www.dioceseofnorwich.org
SUMMARY:Through the Garden Gate Textile Workshop
DESCRIPTION:Spend a relaxing day in St Peter and St Paul’s Church at East Harling. Learn to make a textile picture\, using simple techniques and explore your own unique creativity. You will be given complete instruction by Sharon as well as written instructions and ideas sheets. All materials are provided. \nMaking textile pictures is a delight and hopefully you will come away from this workshop\, full of inspiration. \nNo previous experience is necessary other than maybe the most basic sewing skills. \nSharon Blackman is a textile artist from Chelmsford and has been making textile pictures from recycled fabrics for about 25 years. She has a quirky\, folk art style and particularly loves to make pictures inspired by gardens\, cottages\, the seaside and the beautiful\, simple everyday pleasures of life. She sells her original pictures and cards all over the world and has a large online following. She loves to inspire others to make textile pictures and to receive the same joy and peace that this technique has given to her. \nHot and cold drinks will be provided throughout the day. You will need to bring your own packed lunch or take a walk and buy something at our local shops.
URL:https://www.dioceseofnorwich.org/event/through-the-garden-gate-textile-workshop/
CATEGORIES:Arts
END:VEVENT
BEGIN:VEVENT
DTSTART;TZID=UTC:20240609T110000
DTEND;TZID=UTC:20240609T163000
DTSTAMP:20260425T153302
CREATED:20240408T203447Z
LAST-MODIFIED:20240408T203447Z
UID:10000985-1717930800-1717950600@www.dioceseofnorwich.org
SUMMARY:Art in a Country Church - an exhibition of paintings by local artists
DESCRIPTION:Do come along and enjoy a free Art Exhibition in All Saints Church (Church Lane\, Hemblington NR13 4EF) over the weekend of Saturday 8th June (10:00 am – 4:30 pm) and Sunday 9th June (11:00 am – 4:30 pm).  Artists Jan Lacey\, Ian Walker\, Vivienne Rainsbury and Jan Heath will be exhibiting their paintings and glass work – and refreshments will be on sale too.  A great opportunity to enjoy the treasures of this lovely little Medieval church and the wildflowers in the churchyard too.
URL:https://www.dioceseofnorwich.org/event/art-in-a-country-church-an-exhibition-of-paintings-by-local-artists/2024-06-09/
CATEGORIES:Arts,Fetes, fairs and fundraisers
END:VEVENT
BEGIN:VEVENT
DTSTART;TZID=UTC:20240608T100000
DTEND;TZID=UTC:20240608T163000
DTSTAMP:20260425T153302
CREATED:20240408T203447Z
LAST-MODIFIED:20240408T203447Z
UID:10000984-1717840800-1717864200@www.dioceseofnorwich.org
SUMMARY:Art in a Country Church - an exhibition of paintings by local artists
DESCRIPTION:Do come along and enjoy a free Art Exhibition in All Saints Church (Church Lane\, Hemblington NR13 4EF) over the weekend of Saturday 8th June (10:00 am – 4:30 pm) and Sunday 9th June (11:00 am – 4:30 pm).  Artists Jan Lacey\, Ian Walker\, Vivienne Rainsbury and Jan Heath will be exhibiting their paintings and glass work – and refreshments will be on sale too.  A great opportunity to enjoy the treasures of this lovely little Medieval church and the wildflowers in the churchyard too.
URL:https://www.dioceseofnorwich.org/event/art-in-a-country-church-an-exhibition-of-paintings-by-local-artists/2024-06-08/
CATEGORIES:Arts,Fetes, fairs and fundraisers
END:VEVENT
BEGIN:VEVENT
DTSTART;TZID=UTC:20240511T110000
DTEND;TZID=UTC:20240511T160000
DTSTAMP:20260425T153302
CREATED:20240229T150604Z
LAST-MODIFIED:20240229T150604Z
UID:10000953-1715425200-1715443200@www.dioceseofnorwich.org
SUMMARY:Exhibition: 50 highly colourful patchwork quilt tops
DESCRIPTION:This event is the culmination of months of work by quilt and block makers from all over the UK. This weekend exhibition will be held in the church prior to the planned church Hug on Monday 13 May \nThe exhibition will display over 50 highly colourful patchwork quilt tops made by people from all over the U.K. \nAny donations will help the Friends of St Andrew’s Church Little Massingham raise funds for the church roof as several years ago thieves stole the lead from it. \nLater in the year Quilts 4 Care Leavers will add the backing\, wadding and topstitching to the quilts. The completed quits called Hugs will then be given to young care leavers who leave the care system every year.
URL:https://www.dioceseofnorwich.org/event/exhibition-50-highly-colourful-patchwork-quilt-tops/2024-05-11/
LOCATION:St Andrew’s Church\, Little Massingham\, St Andrew’s Church Church Lane Little Massingham Norfolk\, PE32 2JR
CATEGORIES:Arts
END:VEVENT
BEGIN:VEVENT
DTSTART;TZID=UTC:20240510T110000
DTEND;TZID=UTC:20240510T160000
DTSTAMP:20260425T153302
CREATED:20240229T150604Z
LAST-MODIFIED:20240229T150604Z
UID:10000952-1715338800-1715356800@www.dioceseofnorwich.org
SUMMARY:Exhibition: 50 highly colourful patchwork quilt tops
DESCRIPTION:This event is the culmination of months of work by quilt and block makers from all over the UK. This weekend exhibition will be held in the church prior to the planned church Hug on Monday 13 May \nThe exhibition will display over 50 highly colourful patchwork quilt tops made by people from all over the U.K. \nAny donations will help the Friends of St Andrew’s Church Little Massingham raise funds for the church roof as several years ago thieves stole the lead from it. \nLater in the year Quilts 4 Care Leavers will add the backing\, wadding and topstitching to the quilts. The completed quits called Hugs will then be given to young care leavers who leave the care system every year.
URL:https://www.dioceseofnorwich.org/event/exhibition-50-highly-colourful-patchwork-quilt-tops/2024-05-10/
LOCATION:St Andrew’s Church\, Little Massingham\, St Andrew’s Church Church Lane Little Massingham Norfolk\, PE32 2JR
CATEGORIES:Arts
END:VEVENT
BEGIN:VEVENT
DTSTART;TZID=UTC:20240316T100000
DTEND;TZID=UTC:20240316T160000
DTSTAMP:20260425T153302
CREATED:20240314T161117Z
LAST-MODIFIED:20240314T161117Z
UID:10000970-1710583200-1710604800@www.dioceseofnorwich.org
SUMMARY:King's Lynn Minster Spring Fayre
DESCRIPTION:Lots of new and exciting stalls. Why not pop along on Saturday from 10-2pm\, have a browse\, have a cuppa in our cafe and take home some beautiful crafts\, all in the setting of our beautiful Minster church in King’s Lynn.
URL:https://www.dioceseofnorwich.org/event/kings-lynn-minster-spring-fayre/
LOCATION:King’s Lynn Minster\, Saturday Market Place King's Lynn Norfolk\, PE30 5DQ
CATEGORIES:Fetes, fairs and fundraisers
ORGANIZER;CN="Kelly Bowen":MAILTO:office@stmargaretskingslynn.org.uk
END:VEVENT
END:VCALENDAR