BEGIN:VCALENDAR
VERSION:2.0
PRODID:-//Diocese of Norwich - ECPv6.15.11//NONSGML v1.0//EN
CALSCALE:GREGORIAN
METHOD:PUBLISH
X-WR-CALNAME:Diocese of Norwich
X-ORIGINAL-URL:https://www.dioceseofnorwich.org
X-WR-CALDESC:Events for Diocese of Norwich
REFRESH-INTERVAL;VALUE=DURATION:PT1H
X-Robots-Tag:noindex
X-PUBLISHED-TTL:PT1H
BEGIN:VTIMEZONE
TZID:UTC
BEGIN:STANDARD
TZOFFSETFROM:+0000
TZOFFSETTO:+0000
TZNAME:UTC
DTSTART:20230101T000000
END:STANDARD
END:VTIMEZONE
BEGIN:VEVENT
DTSTART;TZID=UTC:20241019T080000
DTEND;TZID=UTC:20241019T170000
DTSTAMP:20260421T152628
CREATED:20240207T154819Z
LAST-MODIFIED:20240207T155752Z
UID:10000933-1729324800-1729357200@www.dioceseofnorwich.org
SUMMARY:ENCOUNTER Regional Youth Worship\, King's Lynn
DESCRIPTION:Encounter is a termly youth worship event that brings young people together from across the region for worship\, games\, teaching and food. This is one of a range of events across the diocese run in collaboration with local Youth for Christ centres and other churches. There is also and annual Encounter Youth Camp.
URL:https://www.dioceseofnorwich.org/event/encounter-regional-youth-worship-kings-lynn/2024-10-19/
LOCATION:St John’s Church\, King’s Lynn\, St John’s Church\, King’s Lynn\,\, PE30 1NT
CATEGORIES:Children, Youth & Families,Worship
ORGANIZER;CN="Children%2C Youth and Families Team":MAILTO:cyf@dioceseofnorwich.org
END:VEVENT
BEGIN:VEVENT
DTSTART;TZID=UTC:20240914T153000
DTEND;TZID=UTC:20240914T163000
DTSTAMP:20260421T152628
CREATED:20240829T080326Z
LAST-MODIFIED:20240829T080326Z
UID:10001189-1726327800-1726331400@www.dioceseofnorwich.org
SUMMARY:Free family concert
DESCRIPTION:A family-friendly concert especially aimed for children\, including music from Disney films!\n30-40 minutes \nPerformed by Boglárka György (violin) and Amy Butler (piano) \nFree admission with a retiring collection
URL:https://www.dioceseofnorwich.org/event/free-family-concert/
LOCATION:St Mary’s Church\, Attleborough\, Church Street\, Attleborough\, NR17 2AH\, United Kingdom
CATEGORIES:Arts,Children, Youth & Families,For children/child-friendly
ORGANIZER;CN="St Mary's Church%2C Attleborough":MAILTO:attleboroughchurch@btinternet.com
END:VEVENT
BEGIN:VEVENT
DTSTART;TZID=UTC:20240622T110000
DTEND;TZID=UTC:20240623T170000
DTSTAMP:20260421T152628
CREATED:20240312T121856Z
LAST-MODIFIED:20240312T121856Z
UID:10000969-1719054000-1719162000@www.dioceseofnorwich.org
SUMMARY:Loddon Open Gardens
DESCRIPTION:Loddon has many beautiful gardens of all different shapes\, sizes and styles. \nWe welcome you to come and take a tour around a selection of them\, meet local people\, enjoy the great outdoors and the beauty of Loddon gardeners’ talented green fingers. \nAll proceeds to support the Church of Loddon. \nMany gardens will be open in this attractive Market Town\, all within walking distance of each other. \nMany are stunning in design and location and this is your opportunity to look behind the garden gate and explore the hidden delights of other people’s gardens. \nKIDS COMPETITION \nAt each open garden and at our church\, young visitors can find a garden gnome and gain a prize if they locate at least 10 gnomes. \nPOP UP CAFE \nIf you need a pit stop\, refreshments\, and a wonderful variety of beverages\, light lunch options and other delights will be available at Holy Trinity Church. \nPLANT STALL \nIf you are inspired by what you see\, don’t miss out on buying beautiful plants for your own gardens at our plant stall\, at Holy Trinity Church. \nBOOK STALL \nOr prefer to just relax in your gardens\, then don’t forget to visit our book stall\, also at Holy Trinity Church.
URL:https://www.dioceseofnorwich.org/event/loddon-open-gardens/
LOCATION:Loddon Church\, NR14 6EY
CATEGORIES:Fetes, fairs and fundraisers
ORGANIZER;CN="Jules Harrington":MAILTO:loddonopengardens@gmail.com
END:VEVENT
BEGIN:VEVENT
DTSTART;TZID=UTC:20240615T080000
DTEND;TZID=UTC:20240615T170000
DTSTAMP:20260421T152628
CREATED:20240207T154819Z
LAST-MODIFIED:20240207T155752Z
UID:10000932-1718438400-1718470800@www.dioceseofnorwich.org
SUMMARY:ENCOUNTER Regional Youth Worship\, King's Lynn
DESCRIPTION:Encounter is a termly youth worship event that brings young people together from across the region for worship\, games\, teaching and food. This is one of a range of events across the diocese run in collaboration with local Youth for Christ centres and other churches. There is also and annual Encounter Youth Camp.
URL:https://www.dioceseofnorwich.org/event/encounter-regional-youth-worship-kings-lynn/2024-06-15/
LOCATION:St John’s Church\, King’s Lynn\, St John’s Church\, King’s Lynn\,\, PE30 1NT
CATEGORIES:Children, Youth & Families,Worship
ORGANIZER;CN="Children%2C Youth and Families Team":MAILTO:cyf@dioceseofnorwich.org
END:VEVENT
BEGIN:VEVENT
DTSTART;TZID=UTC:20240511T093000
DTEND;TZID=UTC:20240511T170000
DTSTAMP:20260421T152628
CREATED:20240207T122312Z
LAST-MODIFIED:20240221T145552Z
UID:10000928-1715419800-1715446800@www.dioceseofnorwich.org
SUMMARY:Clergy Family Day
DESCRIPTION:Enjoy a family day at the Horstead Centre with 4 exciting outdoor activities\, led by instructors. For safety reasons children must aged be 5 and over to participate. Family members who are younger or would prefer not to take part are still welcome (please register them as non-participants) and some alternative activities will be available.\nRefreshments and snacks are provided\, but please bring a packed lunch. \nThere is no charge for the day\, we want to treat you! \n \n  \nBook here 
URL:https://www.dioceseofnorwich.org/event/clergy-family-day/
LOCATION:The Horstead Centre\, Rectory Road\, Horstead\, Norwich\,\, Norwich\, NR12 7EP\, United Kingdom
CATEGORIES:Children, Youth & Families
ORGANIZER;CN="Children%2C Youth and Families Team":MAILTO:cyf@dioceseofnorwich.org
END:VEVENT
BEGIN:VEVENT
DTSTART;TZID=UTC:20240504T110000
DTEND;TZID=UTC:20240504T150000
DTSTAMP:20260421T152629
CREATED:20240402T193055Z
LAST-MODIFIED:20240402T193055Z
UID:10000974-1714820400-1714834800@www.dioceseofnorwich.org
SUMMARY:Godly Play Retreat Day: 'Living Water'
DESCRIPTION:You are warmly invited to a day retreat on Saturday 4 May\, 11-3pm at the beautiful Barn at Rockland St Mary’s\, NR14 7EY .\nThe theme is ’Living Water’. \nWe will have a Godly Play story and an OutoftheBox story with lots of time and space to respond creatively on your own or in a group\, inside or outside\, using the art supplies or nature! Lunch is included and the wonderful hospitality of the Garrards is assured. \nPlaces are limited to 12 people\, so please email Fiona Prentice fionaprentice@wymondhamabbey.org.uk if you would like to come. \nAn anonymous donation (£10-£15) to cover costs will be taken on the day.
URL:https://www.dioceseofnorwich.org/event/godly-play-retreat-day-living-water/
CATEGORIES:Children, Youth & Families,Clergy training & learning
END:VEVENT
BEGIN:VEVENT
DTSTART;TZID=UTC:20240309T183000
DTEND;TZID=UTC:20240309T210000
DTSTAMP:20260421T152629
CREATED:20240207T154819Z
LAST-MODIFIED:20240207T155752Z
UID:10000929-1710009000-1710018000@www.dioceseofnorwich.org
SUMMARY:ENCOUNTER Regional Youth Worship\, King's Lynn
DESCRIPTION:Encounter is a termly youth worship event that brings young people together from across the region for worship\, games\, teaching and food. This is one of a range of events across the diocese run in collaboration with local Youth for Christ centres and other churches. There is also and annual Encounter Youth Camp.
URL:https://www.dioceseofnorwich.org/event/encounter-regional-youth-worship-kings-lynn/2024-03-09/
LOCATION:St John’s Church\, King’s Lynn\, St John’s Church\, King’s Lynn\,\, PE30 1NT
CATEGORIES:Children, Youth & Families,Worship
ORGANIZER;CN="Children%2C Youth and Families Team":MAILTO:cyf@dioceseofnorwich.org
END:VEVENT
END:VCALENDAR