BEGIN:VCALENDAR
VERSION:2.0
PRODID:-//Diocese of Norwich - ECPv6.15.11//NONSGML v1.0//EN
CALSCALE:GREGORIAN
METHOD:PUBLISH
X-ORIGINAL-URL:https://www.dioceseofnorwich.org
X-WR-CALDESC:Events for Diocese of Norwich
REFRESH-INTERVAL;VALUE=DURATION:PT1H
X-Robots-Tag:noindex
X-PUBLISHED-TTL:PT1H
BEGIN:VTIMEZONE
TZID:UTC
BEGIN:STANDARD
TZOFFSETFROM:+0000
TZOFFSETTO:+0000
TZNAME:UTC
DTSTART:20250101T000000
END:STANDARD
END:VTIMEZONE
BEGIN:VEVENT
DTSTART;TZID=UTC:20260303T093000
DTEND;TZID=UTC:20260303T123000
DTSTAMP:20260422T171341
CREATED:20250905T102324Z
LAST-MODIFIED:20251029T093208Z
UID:10001805-1772530200-1772541000@www.dioceseofnorwich.org
SUMMARY:Thriving in Ministry
DESCRIPTION:We have six free places available on the online Thriving in Ministry course which runs on 10 & 11 November. \nThe course helps you to: \n\nGain a holistic understanding of resilience\, including its physical\, emotional\, mental\, systemic\, and spiritual aspects.\n\n\n\nDevelop an awareness of personal resilience strengths and areas for growth.\n\n\n\n\nCreate practical wellbeing strategies that integrate into ministry.\n\n\n\nFurther details: Thriving In Ministry \n\n\nTo book a place\, please email marleen.madinda@dioceseofnorwich.org
URL:https://www.dioceseofnorwich.org/event/thriving-in-ministry/2026-03-03/
CATEGORIES:Clergy training & learning
ATTACH;FMTTYPE=image/jpeg:https://www.dioceseofnorwich.org/wp-content/uploads/2025/09/Thriving-in-Ministry.jpg
END:VEVENT
BEGIN:VEVENT
DTSTART;TZID=UTC:20260303T100000
DTEND;TZID=UTC:20260303T123000
DTSTAMP:20260422T171341
CREATED:20260205T100336Z
LAST-MODIFIED:20260205T100336Z
UID:10001838-1772532000-1772541000@www.dioceseofnorwich.org
SUMMARY:Coffee\, Clean & Chat Morning
DESCRIPTION:Coffee\, Clean & Chat – Cockthorpe\, All Saints \n\n\nDate: 03 March 2026 10.00am to 12.30pm \nMarch’s Coffee\, Clean & Chat will be taking place at Cockthorpe\, All Saints NR23 1QS \nWhat3words ///ramp.coarser.worthy \nNo experience needed—just bring yourself. Everything else will be provided\, including delicious cake! \nWe hope to see you there.
URL:https://www.dioceseofnorwich.org/event/coffee-clean-chat-morning/
CATEGORIES:Church buildings
ATTACH;FMTTYPE=image/png:https://www.dioceseofnorwich.org/wp-content/uploads/2026/02/NCT-Clean-events.png
END:VEVENT
BEGIN:VEVENT
DTSTART;TZID=UTC:20260303T190000
DTEND;TZID=UTC:20260303T203000
DTSTAMP:20260422T171341
CREATED:20260109T091736Z
LAST-MODIFIED:20260109T091843Z
UID:10001827-1772564400-1772569800@www.dioceseofnorwich.org
SUMMARY:Deep Waters
DESCRIPTION:People often have complex emotional responses to the climate crisis\, including grief\, anger\, blame\, and many others. Deep Waters aims to help people navigate these responses through a Christian lens of love\, wisdom\, and justice\, and to lead people into a place of active hope.\n\nDeep Waters is run by Green Christian\, and can be used in a church context and seeks to be a practical resource for pastoral needs.\n\nThe next Deep Waters course will run from Tuesday 20 January 2026 – Tuesday 10 March 2026\, from 7.00pm until 8.30pm\, on Zoom.\n\nBarbara Bryant\, our Diocesan Environment Officer\, will be co-hosting this programme.\n\nSign up at www.borrowedtime.earth/programmes-of-mutual-support/deep-waters-programme
URL:https://www.dioceseofnorwich.org/event/deep-waters/2026-03-03/
CATEGORIES:Environment
ATTACH;FMTTYPE=image/jpeg:https://www.dioceseofnorwich.org/wp-content/uploads/2026/01/Deep-Waters.jpg
END:VEVENT
BEGIN:VEVENT
DTSTART;TZID=UTC:20260304T093000
DTEND;TZID=UTC:20260304T123000
DTSTAMP:20260422T171341
CREATED:20250905T102324Z
LAST-MODIFIED:20251029T093208Z
UID:10001806-1772616600-1772627400@www.dioceseofnorwich.org
SUMMARY:Thriving in Ministry
DESCRIPTION:We have six free places available on the online Thriving in Ministry course which runs on 10 & 11 November. \nThe course helps you to: \n\nGain a holistic understanding of resilience\, including its physical\, emotional\, mental\, systemic\, and spiritual aspects.\n\n\n\nDevelop an awareness of personal resilience strengths and areas for growth.\n\n\n\n\nCreate practical wellbeing strategies that integrate into ministry.\n\n\n\nFurther details: Thriving In Ministry \n\n\nTo book a place\, please email marleen.madinda@dioceseofnorwich.org
URL:https://www.dioceseofnorwich.org/event/thriving-in-ministry/2026-03-04/
CATEGORIES:Clergy training & learning
ATTACH;FMTTYPE=image/jpeg:https://www.dioceseofnorwich.org/wp-content/uploads/2025/09/Thriving-in-Ministry.jpg
END:VEVENT
BEGIN:VEVENT
DTSTART;TZID=UTC:20260304T190000
DTEND;TZID=UTC:20260311T210000
DTSTAMP:20260422T171341
CREATED:20250821T093108Z
LAST-MODIFIED:20250821T093144Z
UID:10001764-1772650800-1773262800@www.dioceseofnorwich.org
SUMMARY:Module Four: Shaping the Christian Life
DESCRIPTION:What will be covered in this module?\nExploring the Shaping the Christian Life topics: \n\nBaptism and breaking bread\nWe believe – creeds and the framework of faith\nSharing in ministry\nFaith in daily life\nHearing God’s call\n\nWhen will the sessions take place? \n\nSaturday 28 February – in person\nWednesdays on Zoom: 4 Mar\, 11 Mar\, 18 Mar\, 25 Mar 2026\n\nWant to know more about the whole Bishop’s Certificate in Christian Learning? Click here. \nFurther details and eligibility \n\nYou need to be 18+ to take part.\nYou don’t have to be connected to or part of a church to apply\nThe learning is open and available to all\nThere are 5 subject area blocks\, you are welcome to join 1 or select some\, but the Certificate will only be awarded to people who complete all 5 learning blocks.\nThe sessions look at: Old Testament\, New Testament\, Prayer\, Mission and the Christian Life.\nThe first session of each block is in person\, on a Saturday in Norwich with four sessions on Zoom on Wednesday evenings.\nThe cost of each block is £25\, total for 5 is £125. There is a 10% discount if you book for all 5. Bursaries are available to cover if cost is an issue and parishes might choose to pay some of the cost for people who wish to apply too.
URL:https://www.dioceseofnorwich.org/event/module-four-shaping-the-christian-life/2026-03-04/
ATTACH;FMTTYPE=image/png:https://www.dioceseofnorwich.org/wp-content/uploads/2025/08/Bishops-Certificate-socials-graphic-3.png
END:VEVENT
BEGIN:VEVENT
DTSTART;TZID=UTC:20260310T130000
DTEND;TZID=UTC:20260310T140000
DTSTAMP:20260422T171341
CREATED:20260203T134228Z
LAST-MODIFIED:20260203T142020Z
UID:10001833-1773147600-1773151200@www.dioceseofnorwich.org
SUMMARY:Eco drop-in sessions
DESCRIPTION:Online drop-in sessions are being offered by Ed Cotterill\, Net Zero Carbon Adviser and Barbara Bryant\, Environment Officer\, on the second Tuesday of each month from 1:00pm – 2:00pm via the Teams link here.\n\nCome with any queries\, questions or comments you may have about all things eco! Anyone can join in at anytime\, so discussions may ensue\, or you may have a one-to-one session. We’re going to trial it for six months from February 10\, and see how useful it’s found to be\, then decide whether or not to keep it running. Looking forward to seeing you!\n\nDates:\n\n10 Feb\n10 Mar\n14 Apr\n12 May\n12 June\n14 Jul\n\nCLICK HERE TO JOIN A TEAMS CALL ON YOUR CHOSEN DAY
URL:https://www.dioceseofnorwich.org/event/eco-drop-in-sessions/2026-03-10/
CATEGORIES:Environment
ATTACH;FMTTYPE=image/png:https://www.dioceseofnorwich.org/wp-content/uploads/2026/02/Eco-Drop-in-graphic.png
LOCATION:https://teams.microsoft.com/l/meetup-join/19%3ameeting_YzcxYmY5MGMtZWQ2My00OTAyLWFiMmItOWRkMDM5N2NkMjY1%40thread.v2/0?context=%7b%22Tid%22%3a%227648a4d9-d1ba-41c8-a706-c9577e3900be%22%2c%22Oid%22%3a%227cddedeb-9434-4a25-88cf-833024bc6a31%22%7d
END:VEVENT
BEGIN:VEVENT
DTSTART;TZID=UTC:20260310T190000
DTEND;TZID=UTC:20260310T203000
DTSTAMP:20260422T171341
CREATED:20260109T091736Z
LAST-MODIFIED:20260109T091843Z
UID:10001828-1773169200-1773174600@www.dioceseofnorwich.org
SUMMARY:Deep Waters
DESCRIPTION:People often have complex emotional responses to the climate crisis\, including grief\, anger\, blame\, and many others. Deep Waters aims to help people navigate these responses through a Christian lens of love\, wisdom\, and justice\, and to lead people into a place of active hope.\n\nDeep Waters is run by Green Christian\, and can be used in a church context and seeks to be a practical resource for pastoral needs.\n\nThe next Deep Waters course will run from Tuesday 20 January 2026 – Tuesday 10 March 2026\, from 7.00pm until 8.30pm\, on Zoom.\n\nBarbara Bryant\, our Diocesan Environment Officer\, will be co-hosting this programme.\n\nSign up at www.borrowedtime.earth/programmes-of-mutual-support/deep-waters-programme
URL:https://www.dioceseofnorwich.org/event/deep-waters/2026-03-10/
CATEGORIES:Environment
ATTACH;FMTTYPE=image/jpeg:https://www.dioceseofnorwich.org/wp-content/uploads/2026/01/Deep-Waters.jpg
END:VEVENT
BEGIN:VEVENT
DTSTART;TZID=UTC:20260311T190000
DTEND;TZID=UTC:20260311T210000
DTSTAMP:20260422T171341
CREATED:20250821T093108Z
LAST-MODIFIED:20250821T093144Z
UID:10001765-1773255600-1773262800@www.dioceseofnorwich.org
SUMMARY:Module Four: Shaping the Christian Life
DESCRIPTION:What will be covered in this module?\nExploring the Shaping the Christian Life topics: \n\nBaptism and breaking bread\nWe believe – creeds and the framework of faith\nSharing in ministry\nFaith in daily life\nHearing God’s call\n\nWhen will the sessions take place? \n\nSaturday 28 February – in person\nWednesdays on Zoom: 4 Mar\, 11 Mar\, 18 Mar\, 25 Mar 2026\n\nWant to know more about the whole Bishop’s Certificate in Christian Learning? Click here. \nFurther details and eligibility \n\nYou need to be 18+ to take part.\nYou don’t have to be connected to or part of a church to apply\nThe learning is open and available to all\nThere are 5 subject area blocks\, you are welcome to join 1 or select some\, but the Certificate will only be awarded to people who complete all 5 learning blocks.\nThe sessions look at: Old Testament\, New Testament\, Prayer\, Mission and the Christian Life.\nThe first session of each block is in person\, on a Saturday in Norwich with four sessions on Zoom on Wednesday evenings.\nThe cost of each block is £25\, total for 5 is £125. There is a 10% discount if you book for all 5. Bursaries are available to cover if cost is an issue and parishes might choose to pay some of the cost for people who wish to apply too.
URL:https://www.dioceseofnorwich.org/event/module-four-shaping-the-christian-life/2026-03-11/
ATTACH;FMTTYPE=image/png:https://www.dioceseofnorwich.org/wp-content/uploads/2025/08/Bishops-Certificate-socials-graphic-3.png
END:VEVENT
BEGIN:VEVENT
DTSTART;TZID=UTC:20260313T143000
DTEND;TZID=UTC:20260313T150000
DTSTAMP:20260422T171341
CREATED:20241114T164246Z
LAST-MODIFIED:20250821T094443Z
UID:10001317-1773412200-1773414000@www.dioceseofnorwich.org
SUMMARY:LECTIO DIVINA - a way of being with scripture and other sacred texts
DESCRIPTION:We host a monthly group Lectio Divina session in the cathedral library\, on the SECOND FRIDAY of every month at 2.30pm. \nLectio Divina is a contemplative way of reading the Bible\, focusing on a short passage and allowing it to speak to us. The passage is read aloud\, and we may share a word or phrase that resonates with us\, but without discussion. It is a traditional Benedictine approach to the scriptures. \nOpen to all\, readings and full outline of the approach provided. Come along to try it out\, or contact Gudrun at gwarren@cathedral.org.uk if you would like to know more.
URL:https://www.dioceseofnorwich.org/event/lectio-divina-a-way-of-being-with-scripture-and-other-sacred-texts/2026-03-13/
LOCATION:Norwich Cathedral
CATEGORIES:Prayer,Worship
ATTACH;FMTTYPE=image/jpeg:https://www.dioceseofnorwich.org/wp-content/uploads/2024/11/Lectio-Divina.jpg
END:VEVENT
BEGIN:VEVENT
DTSTART;TZID=UTC:20260318T190000
DTEND;TZID=UTC:20260318T210000
DTSTAMP:20260422T171341
CREATED:20250821T093108Z
LAST-MODIFIED:20250821T093144Z
UID:10001766-1773860400-1773867600@www.dioceseofnorwich.org
SUMMARY:Module Four: Shaping the Christian Life
DESCRIPTION:What will be covered in this module?\nExploring the Shaping the Christian Life topics: \n\nBaptism and breaking bread\nWe believe – creeds and the framework of faith\nSharing in ministry\nFaith in daily life\nHearing God’s call\n\nWhen will the sessions take place? \n\nSaturday 28 February – in person\nWednesdays on Zoom: 4 Mar\, 11 Mar\, 18 Mar\, 25 Mar 2026\n\nWant to know more about the whole Bishop’s Certificate in Christian Learning? Click here. \nFurther details and eligibility \n\nYou need to be 18+ to take part.\nYou don’t have to be connected to or part of a church to apply\nThe learning is open and available to all\nThere are 5 subject area blocks\, you are welcome to join 1 or select some\, but the Certificate will only be awarded to people who complete all 5 learning blocks.\nThe sessions look at: Old Testament\, New Testament\, Prayer\, Mission and the Christian Life.\nThe first session of each block is in person\, on a Saturday in Norwich with four sessions on Zoom on Wednesday evenings.\nThe cost of each block is £25\, total for 5 is £125. There is a 10% discount if you book for all 5. Bursaries are available to cover if cost is an issue and parishes might choose to pay some of the cost for people who wish to apply too.
URL:https://www.dioceseofnorwich.org/event/module-four-shaping-the-christian-life/2026-03-18/
ATTACH;FMTTYPE=image/png:https://www.dioceseofnorwich.org/wp-content/uploads/2025/08/Bishops-Certificate-socials-graphic-3.png
END:VEVENT
BEGIN:VEVENT
DTSTART;TZID=UTC:20260325T190000
DTEND;TZID=UTC:20260325T210000
DTSTAMP:20260422T171341
CREATED:20250821T093108Z
LAST-MODIFIED:20250821T093144Z
UID:10001767-1774465200-1774472400@www.dioceseofnorwich.org
SUMMARY:Module Four: Shaping the Christian Life
DESCRIPTION:What will be covered in this module?\nExploring the Shaping the Christian Life topics: \n\nBaptism and breaking bread\nWe believe – creeds and the framework of faith\nSharing in ministry\nFaith in daily life\nHearing God’s call\n\nWhen will the sessions take place? \n\nSaturday 28 February – in person\nWednesdays on Zoom: 4 Mar\, 11 Mar\, 18 Mar\, 25 Mar 2026\n\nWant to know more about the whole Bishop’s Certificate in Christian Learning? Click here. \nFurther details and eligibility \n\nYou need to be 18+ to take part.\nYou don’t have to be connected to or part of a church to apply\nThe learning is open and available to all\nThere are 5 subject area blocks\, you are welcome to join 1 or select some\, but the Certificate will only be awarded to people who complete all 5 learning blocks.\nThe sessions look at: Old Testament\, New Testament\, Prayer\, Mission and the Christian Life.\nThe first session of each block is in person\, on a Saturday in Norwich with four sessions on Zoom on Wednesday evenings.\nThe cost of each block is £25\, total for 5 is £125. There is a 10% discount if you book for all 5. Bursaries are available to cover if cost is an issue and parishes might choose to pay some of the cost for people who wish to apply too.
URL:https://www.dioceseofnorwich.org/event/module-four-shaping-the-christian-life/2026-03-25/
ATTACH;FMTTYPE=image/png:https://www.dioceseofnorwich.org/wp-content/uploads/2025/08/Bishops-Certificate-socials-graphic-3.png
END:VEVENT
BEGIN:VEVENT
DTSTART;TZID=UTC:20260325T193000
DTEND;TZID=UTC:20260325T200000
DTSTAMP:20260422T171341
CREATED:20260317T212553Z
LAST-MODIFIED:20260317T212553Z
UID:10001852-1774467000-1774468800@www.dioceseofnorwich.org
SUMMARY:Taize information evening
DESCRIPTION:Are you a young person in the Diocese of Norwich interested in joining a pilgrimage to Taize?\n\nFind out more about what it involves at the Taize information evening.  Ask any questions and meet some of the group leaders.\nJoin Zoom Meeting\nhttps://us04web.zoom.us/j/78363560760?pwd=9zzQxwzCBjFPhEzXDpjxuJaQvtJyDM.1 \nMeeting ID: 783 6356 0760\nPasscode: 8E7CEa
URL:https://www.dioceseofnorwich.org/event/taize-information-evening/
LOCATION:Zoom
CATEGORIES:Pilgrimage,Young Adults
ATTACH;FMTTYPE=image/png:https://www.dioceseofnorwich.org/wp-content/uploads/2026/03/Taize-info-evening.png
END:VEVENT
END:VCALENDAR