BEGIN:VCALENDAR
VERSION:2.0
PRODID:-//Diocese of Norwich - ECPv6.15.11//NONSGML v1.0//EN
CALSCALE:GREGORIAN
METHOD:PUBLISH
X-WR-CALNAME:Diocese of Norwich
X-ORIGINAL-URL:https://www.dioceseofnorwich.org
X-WR-CALDESC:Events for Diocese of Norwich
REFRESH-INTERVAL;VALUE=DURATION:PT1H
X-Robots-Tag:noindex
X-PUBLISHED-TTL:PT1H
BEGIN:VTIMEZONE
TZID:UTC
BEGIN:STANDARD
TZOFFSETFROM:+0000
TZOFFSETTO:+0000
TZNAME:UTC
DTSTART:20240101T000000
END:STANDARD
END:VTIMEZONE
BEGIN:VEVENT
DTSTART;TZID=UTC:20251127T190000
DTEND;TZID=UTC:20251204T210000
DTSTAMP:20260425T115556
CREATED:20250819T145002Z
LAST-MODIFIED:20250821T095155Z
UID:10001735-1764270000-1764882000@www.dioceseofnorwich.org
SUMMARY:Module Two: Inhabiting the New Testament
DESCRIPTION:What will be covered in this module?\nExploring the Old Testament topics: \n\nThe world of the OT\nHow do I read Genesis?\nHorrible histories\nReading the Prophets\nSeeking Wisdom\n\nWhen will the sessions take place? \n\nSaturday 22 November in person\nThursdays on Zoom. 27 Nov\, 4 Dec\, 11 Dec\, 18 Dec 2025\n\nWant to know more about the whole Bishop’s Certificate in Christian Learning? Click here. \nFurther details and eligibility \n\nYou need to be 18+ to take part.\nYou don’t have to be connected to or part of a church to apply\nThe learning is open and available to all\nThere are 5 subject area blocks\, you are welcome to join 1 or select some\, but the Certificate will only be awarded to people who complete all 5 learning blocks.\nThe sessions look at: Old Testament\, New Testament\, Prayer\, Mission and the Christian Life.\nThe first session of each block is in person\, on a Saturday in Norwich with four sessions on Zoom on Wednesday evenings.\nThe cost of each block is £25\, total for 5 is £125. There is a 10% discount if you book for all 5. Bursaries are available to cover if cost is an issue and parishes might choose to pay some of the cost for people who wish to apply too.
URL:https://www.dioceseofnorwich.org/event/module-2-inhabiting-the-new-testament/2025-11-27/
ATTACH;FMTTYPE=image/png:https://www.dioceseofnorwich.org/wp-content/uploads/2025/08/Bishops-Certificate-socials-graphic-1.png
END:VEVENT
BEGIN:VEVENT
DTSTART;TZID=UTC:20251204T190000
DTEND;TZID=UTC:20251204T210000
DTSTAMP:20260425T115556
CREATED:20250819T145002Z
LAST-MODIFIED:20250821T095155Z
UID:10001736-1764874800-1764882000@www.dioceseofnorwich.org
SUMMARY:Module Two: Inhabiting the New Testament
DESCRIPTION:What will be covered in this module?\nExploring the Old Testament topics: \n\nThe world of the OT\nHow do I read Genesis?\nHorrible histories\nReading the Prophets\nSeeking Wisdom\n\nWhen will the sessions take place? \n\nSaturday 22 November in person\nThursdays on Zoom. 27 Nov\, 4 Dec\, 11 Dec\, 18 Dec 2025\n\nWant to know more about the whole Bishop’s Certificate in Christian Learning? Click here. \nFurther details and eligibility \n\nYou need to be 18+ to take part.\nYou don’t have to be connected to or part of a church to apply\nThe learning is open and available to all\nThere are 5 subject area blocks\, you are welcome to join 1 or select some\, but the Certificate will only be awarded to people who complete all 5 learning blocks.\nThe sessions look at: Old Testament\, New Testament\, Prayer\, Mission and the Christian Life.\nThe first session of each block is in person\, on a Saturday in Norwich with four sessions on Zoom on Wednesday evenings.\nThe cost of each block is £25\, total for 5 is £125. There is a 10% discount if you book for all 5. Bursaries are available to cover if cost is an issue and parishes might choose to pay some of the cost for people who wish to apply too.
URL:https://www.dioceseofnorwich.org/event/module-2-inhabiting-the-new-testament/2025-12-04/
ATTACH;FMTTYPE=image/png:https://www.dioceseofnorwich.org/wp-content/uploads/2025/08/Bishops-Certificate-socials-graphic-1.png
END:VEVENT
BEGIN:VEVENT
DTSTART;TZID=UTC:20251206T103000
DTEND;TZID=UTC:20251207T160000
DTSTAMP:20260425T115556
CREATED:20251130T143214Z
LAST-MODIFIED:20251130T143756Z
UID:10001819-1765017000-1765123200@www.dioceseofnorwich.org
SUMMARY:Christmas Tree Festival Rockland
DESCRIPTION:Rockland St Mary Church Christmas Tree Festival 6th and 7th December 10.30am – 4pm.\nRefreshments\, home made cakes\, Tombola\, Raffle and Craft in The Barn.
URL:https://www.dioceseofnorwich.org/event/christmas-tree-festival-rockland/
CATEGORIES:Christmas
ATTACH;FMTTYPE=image/png:https://www.dioceseofnorwich.org/wp-content/uploads/2025/11/Christmas-Tree-Festival.png
END:VEVENT
BEGIN:VEVENT
DTSTART;TZID=UTC:20251207T100000
DTEND;TZID=UTC:20260104T160000
DTSTAMP:20260425T115556
CREATED:20251130T142121Z
LAST-MODIFIED:20251130T142432Z
UID:10001818-1765101600-1767542400@www.dioceseofnorwich.org
SUMMARY:South Walsham Tree Festival
DESCRIPTION:St Mary’s Church\, South Walsham. Church opening every day 10am-4pm from Sunday 7 December to Sunday 4 January 2026.
URL:https://www.dioceseofnorwich.org/event/south-walsham-tree-festival/
CATEGORIES:Christmas
ATTACH;FMTTYPE=image/jpeg:https://www.dioceseofnorwich.org/wp-content/uploads/2025/11/xmas-tree-festival-25-1-e1765895646509.jpg
END:VEVENT
BEGIN:VEVENT
DTSTART;TZID=UTC:20251211T190000
DTEND;TZID=UTC:20251211T210000
DTSTAMP:20260425T115556
CREATED:20250819T145002Z
LAST-MODIFIED:20250821T095155Z
UID:10001737-1765479600-1765486800@www.dioceseofnorwich.org
SUMMARY:Module Two: Inhabiting the New Testament
DESCRIPTION:What will be covered in this module?\nExploring the Old Testament topics: \n\nThe world of the OT\nHow do I read Genesis?\nHorrible histories\nReading the Prophets\nSeeking Wisdom\n\nWhen will the sessions take place? \n\nSaturday 22 November in person\nThursdays on Zoom. 27 Nov\, 4 Dec\, 11 Dec\, 18 Dec 2025\n\nWant to know more about the whole Bishop’s Certificate in Christian Learning? Click here. \nFurther details and eligibility \n\nYou need to be 18+ to take part.\nYou don’t have to be connected to or part of a church to apply\nThe learning is open and available to all\nThere are 5 subject area blocks\, you are welcome to join 1 or select some\, but the Certificate will only be awarded to people who complete all 5 learning blocks.\nThe sessions look at: Old Testament\, New Testament\, Prayer\, Mission and the Christian Life.\nThe first session of each block is in person\, on a Saturday in Norwich with four sessions on Zoom on Wednesday evenings.\nThe cost of each block is £25\, total for 5 is £125. There is a 10% discount if you book for all 5. Bursaries are available to cover if cost is an issue and parishes might choose to pay some of the cost for people who wish to apply too.
URL:https://www.dioceseofnorwich.org/event/module-2-inhabiting-the-new-testament/2025-12-11/
ATTACH;FMTTYPE=image/png:https://www.dioceseofnorwich.org/wp-content/uploads/2025/08/Bishops-Certificate-socials-graphic-1.png
END:VEVENT
BEGIN:VEVENT
DTSTART;TZID=UTC:20251211T190000
DTEND;TZID=UTC:20251211T210000
DTSTAMP:20260425T115556
CREATED:20250819T161648Z
LAST-MODIFIED:20250819T161648Z
UID:10001743-1765479600-1765486800@www.dioceseofnorwich.org
SUMMARY:Session Four: Being Sent Out - The Church of England and Christian Mission
DESCRIPTION:Is God speaking to you about your Ministry and Mission? \nThe Shared Vocations Space programme gives you the chance to explore whether you are being called to play a role in Ministry. Discover the various pathways leading to Licensed Lay Ministry (LLM)\, Ordained Ministry (becoming a priest)\, Chaplaincy\, Pioneer\, Authorised Worship and Authorised Pastoral Assistant. \nHear vocations stories\, explore Scripture and have the chance to think about some key issues relating to each ministry. There will be opportunities to explore your questions in small groups. By the end of the programme\, you will be well placed to enter the formal selection process for either LLM or Ordained Ministry. \nContact: Register your interest via email to lucy.dallas@dioceseofnorwich.org \nThe sessions are hosted by Revd Lucy Dallas and members of the DDO & LLM teams with contributions from mission practitioners alongside lay and ordained ministers from around and beyond the diocese. \n2025/26 Programme \nSession 1 \nSetting Out and Starting Out \nWednesday 17 September 2025 at 7-9pm St Luke’s\, 61 Aylsham Road\, Norwich NR3 2HF \nSession 2 \nBeing Us: The Church of England \nThursday 16 October 2025 7-9pm Online \nSession 3 \nBeing Me: How God calls people \n13 November 2025 7-9pm online \nSession 4 \nBeing Sent Out: The Church of England and Christian Mission \n11th December 2025 7-9pm Online \nSession 5 \nTrying Out: Knocking on the Door \n15 January 2025 at 7-9pm online \nSession 6 \nWalking by Faith: What next? \n11th February 2026 at 7-9pm at 7-9pm St Luke’s\, Norwich (address above)
URL:https://www.dioceseofnorwich.org/event/session-four-being-sent-out-the-church-of-england-and-christian-mission/
CATEGORIES:Shared Vocation Space
ATTACH;FMTTYPE=image/png:https://www.dioceseofnorwich.org/wp-content/uploads/2025/08/Shared-Vocation-Space-20256.png
LOCATION:
END:VEVENT
BEGIN:VEVENT
DTSTART;TZID=UTC:20251212T143000
DTEND;TZID=UTC:20251212T150000
DTSTAMP:20260425T115556
CREATED:20241114T164246Z
LAST-MODIFIED:20250821T094443Z
UID:10001314-1765549800-1765551600@www.dioceseofnorwich.org
SUMMARY:LECTIO DIVINA - a way of being with scripture and other sacred texts
DESCRIPTION:We host a monthly group Lectio Divina session in the cathedral library\, on the SECOND FRIDAY of every month at 2.30pm. \nLectio Divina is a contemplative way of reading the Bible\, focusing on a short passage and allowing it to speak to us. The passage is read aloud\, and we may share a word or phrase that resonates with us\, but without discussion. It is a traditional Benedictine approach to the scriptures. \nOpen to all\, readings and full outline of the approach provided. Come along to try it out\, or contact Gudrun at gwarren@cathedral.org.uk if you would like to know more.
URL:https://www.dioceseofnorwich.org/event/lectio-divina-a-way-of-being-with-scripture-and-other-sacred-texts/2025-12-12/
LOCATION:Norwich Cathedral
CATEGORIES:Prayer,Worship
ATTACH;FMTTYPE=image/jpeg:https://www.dioceseofnorwich.org/wp-content/uploads/2024/11/Lectio-Divina.jpg
END:VEVENT
BEGIN:VEVENT
DTSTART;TZID=UTC:20251217T170000
DTEND;TZID=UTC:20251217T173000
DTSTAMP:20260425T115556
CREATED:20251106T095855Z
LAST-MODIFIED:20251106T100850Z
UID:10001808-1765990800-1765992600@www.dioceseofnorwich.org
SUMMARY:Join Bishop Jane for Reflections on the Advent Antiphons
DESCRIPTION:Join Bishop Jane for a time to reflect in the busy run up to Christmas \n\nWATCH: Bishop Jane invites you to join her for a series of Advent reflections\n\nReflections on the Advent Antiphons\n\n\nA daily zoom meeting with the Bishop of Lynn\, the Rt Revd Dr Jane Steen.\n\n\nEach day from Wednesday 17 to Tuesday 23 December 2025\, 5pm-5.30pm.\n\nZoom link\, please use this one each day:\n\nDaily: https://dioceseofnorwich-org.zoom.us/meeting/tZEscuiqqzwtH9Bt2BhLCQdTSZbQgLepqYbj/ics?icsToken=DM7MEvWsu3vDjph0XAAALAAAAAeeXhr721R15ZqoTIvM1F63o0T3mzwUa5jaLniT3HBlhXMfr2PRWtCg4r2SsoL1Sk7n54BnhpBCMToEvzAwMDAwMQ&meetingMasterEventId=zS8FXB7VTn-8inVkiyYRfA\n\nJoin Zoom Meeting\nhttps://dioceseofnorwich-org.zoom.us/j/85151257754?pwd=YRHmBFsWEqvHGazR4oXCkaosL4lpdk.1\n\nMeeting ID: 851 5125 7754\nPasscode: 546962
URL:https://www.dioceseofnorwich.org/event/join-bishop-jane-for-reflections-on-the-advent-antiphons/2025-12-17/
CATEGORIES:Christmas
ATTACH;FMTTYPE=image/png:https://www.dioceseofnorwich.org/wp-content/uploads/2025/11/Bishop-Jane-Advent.png
END:VEVENT
BEGIN:VEVENT
DTSTART;TZID=UTC:20251218T170000
DTEND;TZID=UTC:20251218T173000
DTSTAMP:20260425T115556
CREATED:20251106T095855Z
LAST-MODIFIED:20251106T100850Z
UID:10001809-1766077200-1766079000@www.dioceseofnorwich.org
SUMMARY:Join Bishop Jane for Reflections on the Advent Antiphons
DESCRIPTION:Join Bishop Jane for a time to reflect in the busy run up to Christmas \n\nWATCH: Bishop Jane invites you to join her for a series of Advent reflections\n\nReflections on the Advent Antiphons\n\n\nA daily zoom meeting with the Bishop of Lynn\, the Rt Revd Dr Jane Steen.\n\n\nEach day from Wednesday 17 to Tuesday 23 December 2025\, 5pm-5.30pm.\n\nZoom link\, please use this one each day:\n\nDaily: https://dioceseofnorwich-org.zoom.us/meeting/tZEscuiqqzwtH9Bt2BhLCQdTSZbQgLepqYbj/ics?icsToken=DM7MEvWsu3vDjph0XAAALAAAAAeeXhr721R15ZqoTIvM1F63o0T3mzwUa5jaLniT3HBlhXMfr2PRWtCg4r2SsoL1Sk7n54BnhpBCMToEvzAwMDAwMQ&meetingMasterEventId=zS8FXB7VTn-8inVkiyYRfA\n\nJoin Zoom Meeting\nhttps://dioceseofnorwich-org.zoom.us/j/85151257754?pwd=YRHmBFsWEqvHGazR4oXCkaosL4lpdk.1\n\nMeeting ID: 851 5125 7754\nPasscode: 546962
URL:https://www.dioceseofnorwich.org/event/join-bishop-jane-for-reflections-on-the-advent-antiphons/2025-12-18/
CATEGORIES:Christmas
ATTACH;FMTTYPE=image/png:https://www.dioceseofnorwich.org/wp-content/uploads/2025/11/Bishop-Jane-Advent.png
END:VEVENT
BEGIN:VEVENT
DTSTART;TZID=UTC:20251218T190000
DTEND;TZID=UTC:20251218T210000
DTSTAMP:20260425T115556
CREATED:20250819T145002Z
LAST-MODIFIED:20250821T095155Z
UID:10001738-1766084400-1766091600@www.dioceseofnorwich.org
SUMMARY:Module Two: Inhabiting the New Testament
DESCRIPTION:What will be covered in this module?\nExploring the Old Testament topics: \n\nThe world of the OT\nHow do I read Genesis?\nHorrible histories\nReading the Prophets\nSeeking Wisdom\n\nWhen will the sessions take place? \n\nSaturday 22 November in person\nThursdays on Zoom. 27 Nov\, 4 Dec\, 11 Dec\, 18 Dec 2025\n\nWant to know more about the whole Bishop’s Certificate in Christian Learning? Click here. \nFurther details and eligibility \n\nYou need to be 18+ to take part.\nYou don’t have to be connected to or part of a church to apply\nThe learning is open and available to all\nThere are 5 subject area blocks\, you are welcome to join 1 or select some\, but the Certificate will only be awarded to people who complete all 5 learning blocks.\nThe sessions look at: Old Testament\, New Testament\, Prayer\, Mission and the Christian Life.\nThe first session of each block is in person\, on a Saturday in Norwich with four sessions on Zoom on Wednesday evenings.\nThe cost of each block is £25\, total for 5 is £125. There is a 10% discount if you book for all 5. Bursaries are available to cover if cost is an issue and parishes might choose to pay some of the cost for people who wish to apply too.
URL:https://www.dioceseofnorwich.org/event/module-2-inhabiting-the-new-testament/2025-12-18/
ATTACH;FMTTYPE=image/png:https://www.dioceseofnorwich.org/wp-content/uploads/2025/08/Bishops-Certificate-socials-graphic-1.png
END:VEVENT
BEGIN:VEVENT
DTSTART;TZID=UTC:20251219T170000
DTEND;TZID=UTC:20251219T173000
DTSTAMP:20260425T115556
CREATED:20251106T095855Z
LAST-MODIFIED:20251106T100850Z
UID:10001810-1766163600-1766165400@www.dioceseofnorwich.org
SUMMARY:Join Bishop Jane for Reflections on the Advent Antiphons
DESCRIPTION:Join Bishop Jane for a time to reflect in the busy run up to Christmas \n\nWATCH: Bishop Jane invites you to join her for a series of Advent reflections\n\nReflections on the Advent Antiphons\n\n\nA daily zoom meeting with the Bishop of Lynn\, the Rt Revd Dr Jane Steen.\n\n\nEach day from Wednesday 17 to Tuesday 23 December 2025\, 5pm-5.30pm.\n\nZoom link\, please use this one each day:\n\nDaily: https://dioceseofnorwich-org.zoom.us/meeting/tZEscuiqqzwtH9Bt2BhLCQdTSZbQgLepqYbj/ics?icsToken=DM7MEvWsu3vDjph0XAAALAAAAAeeXhr721R15ZqoTIvM1F63o0T3mzwUa5jaLniT3HBlhXMfr2PRWtCg4r2SsoL1Sk7n54BnhpBCMToEvzAwMDAwMQ&meetingMasterEventId=zS8FXB7VTn-8inVkiyYRfA\n\nJoin Zoom Meeting\nhttps://dioceseofnorwich-org.zoom.us/j/85151257754?pwd=YRHmBFsWEqvHGazR4oXCkaosL4lpdk.1\n\nMeeting ID: 851 5125 7754\nPasscode: 546962
URL:https://www.dioceseofnorwich.org/event/join-bishop-jane-for-reflections-on-the-advent-antiphons/2025-12-19/
CATEGORIES:Christmas
ATTACH;FMTTYPE=image/png:https://www.dioceseofnorwich.org/wp-content/uploads/2025/11/Bishop-Jane-Advent.png
END:VEVENT
BEGIN:VEVENT
DTSTART;TZID=UTC:20251220T170000
DTEND;TZID=UTC:20251220T173000
DTSTAMP:20260425T115556
CREATED:20251106T095855Z
LAST-MODIFIED:20251106T100850Z
UID:10001811-1766250000-1766251800@www.dioceseofnorwich.org
SUMMARY:Join Bishop Jane for Reflections on the Advent Antiphons
DESCRIPTION:Join Bishop Jane for a time to reflect in the busy run up to Christmas \n\nWATCH: Bishop Jane invites you to join her for a series of Advent reflections\n\nReflections on the Advent Antiphons\n\n\nA daily zoom meeting with the Bishop of Lynn\, the Rt Revd Dr Jane Steen.\n\n\nEach day from Wednesday 17 to Tuesday 23 December 2025\, 5pm-5.30pm.\n\nZoom link\, please use this one each day:\n\nDaily: https://dioceseofnorwich-org.zoom.us/meeting/tZEscuiqqzwtH9Bt2BhLCQdTSZbQgLepqYbj/ics?icsToken=DM7MEvWsu3vDjph0XAAALAAAAAeeXhr721R15ZqoTIvM1F63o0T3mzwUa5jaLniT3HBlhXMfr2PRWtCg4r2SsoL1Sk7n54BnhpBCMToEvzAwMDAwMQ&meetingMasterEventId=zS8FXB7VTn-8inVkiyYRfA\n\nJoin Zoom Meeting\nhttps://dioceseofnorwich-org.zoom.us/j/85151257754?pwd=YRHmBFsWEqvHGazR4oXCkaosL4lpdk.1\n\nMeeting ID: 851 5125 7754\nPasscode: 546962
URL:https://www.dioceseofnorwich.org/event/join-bishop-jane-for-reflections-on-the-advent-antiphons/2025-12-20/
CATEGORIES:Christmas
ATTACH;FMTTYPE=image/png:https://www.dioceseofnorwich.org/wp-content/uploads/2025/11/Bishop-Jane-Advent.png
END:VEVENT
BEGIN:VEVENT
DTSTART;TZID=UTC:20251221T170000
DTEND;TZID=UTC:20251221T173000
DTSTAMP:20260425T115556
CREATED:20251106T095855Z
LAST-MODIFIED:20251106T100850Z
UID:10001812-1766336400-1766338200@www.dioceseofnorwich.org
SUMMARY:Join Bishop Jane for Reflections on the Advent Antiphons
DESCRIPTION:Join Bishop Jane for a time to reflect in the busy run up to Christmas \n\nWATCH: Bishop Jane invites you to join her for a series of Advent reflections\n\nReflections on the Advent Antiphons\n\n\nA daily zoom meeting with the Bishop of Lynn\, the Rt Revd Dr Jane Steen.\n\n\nEach day from Wednesday 17 to Tuesday 23 December 2025\, 5pm-5.30pm.\n\nZoom link\, please use this one each day:\n\nDaily: https://dioceseofnorwich-org.zoom.us/meeting/tZEscuiqqzwtH9Bt2BhLCQdTSZbQgLepqYbj/ics?icsToken=DM7MEvWsu3vDjph0XAAALAAAAAeeXhr721R15ZqoTIvM1F63o0T3mzwUa5jaLniT3HBlhXMfr2PRWtCg4r2SsoL1Sk7n54BnhpBCMToEvzAwMDAwMQ&meetingMasterEventId=zS8FXB7VTn-8inVkiyYRfA\n\nJoin Zoom Meeting\nhttps://dioceseofnorwich-org.zoom.us/j/85151257754?pwd=YRHmBFsWEqvHGazR4oXCkaosL4lpdk.1\n\nMeeting ID: 851 5125 7754\nPasscode: 546962
URL:https://www.dioceseofnorwich.org/event/join-bishop-jane-for-reflections-on-the-advent-antiphons/2025-12-21/
CATEGORIES:Christmas
ATTACH;FMTTYPE=image/png:https://www.dioceseofnorwich.org/wp-content/uploads/2025/11/Bishop-Jane-Advent.png
END:VEVENT
BEGIN:VEVENT
DTSTART;TZID=UTC:20251222T170000
DTEND;TZID=UTC:20251222T173000
DTSTAMP:20260425T115556
CREATED:20251106T095855Z
LAST-MODIFIED:20251106T100850Z
UID:10001813-1766422800-1766424600@www.dioceseofnorwich.org
SUMMARY:Join Bishop Jane for Reflections on the Advent Antiphons
DESCRIPTION:Join Bishop Jane for a time to reflect in the busy run up to Christmas \n\nWATCH: Bishop Jane invites you to join her for a series of Advent reflections\n\nReflections on the Advent Antiphons\n\n\nA daily zoom meeting with the Bishop of Lynn\, the Rt Revd Dr Jane Steen.\n\n\nEach day from Wednesday 17 to Tuesday 23 December 2025\, 5pm-5.30pm.\n\nZoom link\, please use this one each day:\n\nDaily: https://dioceseofnorwich-org.zoom.us/meeting/tZEscuiqqzwtH9Bt2BhLCQdTSZbQgLepqYbj/ics?icsToken=DM7MEvWsu3vDjph0XAAALAAAAAeeXhr721R15ZqoTIvM1F63o0T3mzwUa5jaLniT3HBlhXMfr2PRWtCg4r2SsoL1Sk7n54BnhpBCMToEvzAwMDAwMQ&meetingMasterEventId=zS8FXB7VTn-8inVkiyYRfA\n\nJoin Zoom Meeting\nhttps://dioceseofnorwich-org.zoom.us/j/85151257754?pwd=YRHmBFsWEqvHGazR4oXCkaosL4lpdk.1\n\nMeeting ID: 851 5125 7754\nPasscode: 546962
URL:https://www.dioceseofnorwich.org/event/join-bishop-jane-for-reflections-on-the-advent-antiphons/2025-12-22/
CATEGORIES:Christmas
ATTACH;FMTTYPE=image/png:https://www.dioceseofnorwich.org/wp-content/uploads/2025/11/Bishop-Jane-Advent.png
END:VEVENT
BEGIN:VEVENT
DTSTART;TZID=UTC:20251223T170000
DTEND;TZID=UTC:20251223T173000
DTSTAMP:20260425T115556
CREATED:20251106T095855Z
LAST-MODIFIED:20251106T100850Z
UID:10001814-1766509200-1766511000@www.dioceseofnorwich.org
SUMMARY:Join Bishop Jane for Reflections on the Advent Antiphons
DESCRIPTION:Join Bishop Jane for a time to reflect in the busy run up to Christmas \n\nWATCH: Bishop Jane invites you to join her for a series of Advent reflections\n\nReflections on the Advent Antiphons\n\n\nA daily zoom meeting with the Bishop of Lynn\, the Rt Revd Dr Jane Steen.\n\n\nEach day from Wednesday 17 to Tuesday 23 December 2025\, 5pm-5.30pm.\n\nZoom link\, please use this one each day:\n\nDaily: https://dioceseofnorwich-org.zoom.us/meeting/tZEscuiqqzwtH9Bt2BhLCQdTSZbQgLepqYbj/ics?icsToken=DM7MEvWsu3vDjph0XAAALAAAAAeeXhr721R15ZqoTIvM1F63o0T3mzwUa5jaLniT3HBlhXMfr2PRWtCg4r2SsoL1Sk7n54BnhpBCMToEvzAwMDAwMQ&meetingMasterEventId=zS8FXB7VTn-8inVkiyYRfA\n\nJoin Zoom Meeting\nhttps://dioceseofnorwich-org.zoom.us/j/85151257754?pwd=YRHmBFsWEqvHGazR4oXCkaosL4lpdk.1\n\nMeeting ID: 851 5125 7754\nPasscode: 546962
URL:https://www.dioceseofnorwich.org/event/join-bishop-jane-for-reflections-on-the-advent-antiphons/2025-12-23/
CATEGORIES:Christmas
ATTACH;FMTTYPE=image/png:https://www.dioceseofnorwich.org/wp-content/uploads/2025/11/Bishop-Jane-Advent.png
END:VEVENT
END:VCALENDAR