BEGIN:VCALENDAR
VERSION:2.0
PRODID:-//Diocese of Norwich - ECPv6.15.11//NONSGML v1.0//EN
CALSCALE:GREGORIAN
METHOD:PUBLISH
X-ORIGINAL-URL:https://www.dioceseofnorwich.org
X-WR-CALDESC:Events for Diocese of Norwich
REFRESH-INTERVAL;VALUE=DURATION:PT1H
X-Robots-Tag:noindex
X-PUBLISHED-TTL:PT1H
BEGIN:VTIMEZONE
TZID:UTC
BEGIN:STANDARD
TZOFFSETFROM:+0000
TZOFFSETTO:+0000
TZNAME:UTC
DTSTART:20230101T000000
END:STANDARD
END:VTIMEZONE
BEGIN:VEVENT
DTSTART;TZID=UTC:20260325T193000
DTEND;TZID=UTC:20260325T200000
DTSTAMP:20260423T100709
CREATED:20260317T212553Z
LAST-MODIFIED:20260317T212553Z
UID:10001852-1774467000-1774468800@www.dioceseofnorwich.org
SUMMARY:Taize information evening
DESCRIPTION:Are you a young person in the Diocese of Norwich interested in joining a pilgrimage to Taize?\n\nFind out more about what it involves at the Taize information evening.  Ask any questions and meet some of the group leaders.\nJoin Zoom Meeting\nhttps://us04web.zoom.us/j/78363560760?pwd=9zzQxwzCBjFPhEzXDpjxuJaQvtJyDM.1 \nMeeting ID: 783 6356 0760\nPasscode: 8E7CEa
URL:https://www.dioceseofnorwich.org/event/taize-information-evening/
LOCATION:Zoom
CATEGORIES:Pilgrimage,Young Adults
ATTACH;FMTTYPE=image/png:https://www.dioceseofnorwich.org/wp-content/uploads/2026/03/Taize-info-evening.png
END:VEVENT
BEGIN:VEVENT
DTSTART;VALUE=DATE:20250719
DTEND;VALUE=DATE:20250729
DTSTAMP:20260423T100709
CREATED:20250401T120044Z
LAST-MODIFIED:20250401T120044Z
UID:10001663-1752883200-1753747199@www.dioceseofnorwich.org
SUMMARY:Join Bishop Graham on a pilgrimage to Taize
DESCRIPTION:19-28 July 2025 \nYoung people aged 18-35 are once again invited to join a group travelling from the Diocese of Norwich\, 19-28 July 2025\, for a truly unique experience of community\, worship and prayer with Taizé.  Young adults from many different backgrounds and denominations travel to Taizé for a unique Christian experience of openness\, solidarity and encounter. \nBishop Graham said: “A pilgrim is someone who leaves the comfort of home to travel beyond familiar boundaries\, to cross into new landscapes and places\, and to step out into the unknown on an adventure with God. That’s my invitation to you – to experience something new in your journey with Jesus in the rhythm of prayer and a simple life at Taizé.” \nFor 2025\, the prices are as follows: \n\nStudents and those out of work – £165.00\nChurch workers – £275.00\nThose in full-time employment – £330.00\n\n\nBursaries available for those who need additional support \n\nBeing at Taizé is an experience rather than a ‘talk’. This means it is accessible to those who do not think of themselves as being religious\, as well as those of other faiths. Each day in the community includes services\, biblical reflections\, small international discussion groups\, practical activities\, and prayer with the whole community. As well as this\, it offers a safe way for young people to experience a wide range of languages and cultures. \nTo sign up\, please email:  taize.pilgrimage@dioceseofnorwich.org. Spaces will be allocated on a first come\, first served basis. \nKnow a young person who might be interested? Visiting Taizé has been a transformational experience for many\, many people. If you know a young person who would enjoy and benefit from this opportunity\, please do share this with them! Thank you.
URL:https://www.dioceseofnorwich.org/event/join-bishop-graham-on-a-pilgrimage-to-taize/
CATEGORIES:Young Adults
ATTACH;FMTTYPE=image/jpeg:https://www.dioceseofnorwich.org/wp-content/uploads/2025/04/Bishops-Pilgrimage-to-Taize-Square-2025-v2-768x768-1.jpg
END:VEVENT
BEGIN:VEVENT
DTSTART;VALUE=DATE:20250719
DTEND;VALUE=DATE:20250729
DTSTAMP:20260423T100709
CREATED:20250220T161812Z
LAST-MODIFIED:20250224T160240Z
UID:10001667-1752883200-1753747199@www.dioceseofnorwich.org
SUMMARY:Pilgrimage to Taize
DESCRIPTION:19-28 July 2025 \nJoin Bishop Graham on a pilgrimage to Taize\, For those aged 18-35 and living in the Diocese of Norwich. \nMore information at DofN.org/Taize
URL:https://www.dioceseofnorwich.org/event/pilgrimage-to-taize/
CATEGORIES:Young Adults
ATTACH;FMTTYPE=image/jpeg:https://www.dioceseofnorwich.org/wp-content/uploads/2023/12/Bishops-Pilgrimage-to-Taize-Square-2025-v2-scaled-e1740412928796.jpg
END:VEVENT
BEGIN:VEVENT
DTSTART;VALUE=DATE:20240713
DTEND;VALUE=DATE:20240723
DTSTAMP:20260423T100709
CREATED:20240117T153037Z
LAST-MODIFIED:20240408T203045Z
UID:10000897-1720828800-1721692799@www.dioceseofnorwich.org
SUMMARY:Join Bishop Graham on a pilgrimage to Taizé 2024
DESCRIPTION:Are you aged 18-29 and live in the Diocese of Norwich? \nAre you interested in joining a pilgrimage to France next summer? \nThe Taizé community is an inter-denominational monastic community with a focus on youth. Young people will experience a wide range of languages and cultures and inspirational worship. \n\nStudents – £150.00\nPart-time or church associated workers – £200.00\nThose in full-time employment – £300.00\n\nBursaries available for those who need additional support. \nOnly 34 places available\, on a first come first served basis.
URL:https://www.dioceseofnorwich.org/event/join-bishop-graham-on-a-pilgrimage-to-taize-2024/
LOCATION:Taizé\, France
CATEGORIES:Children, Youth & Families,Young Adults
ORGANIZER;CN="Jeremy Brown":MAILTO:taize.pilgrimage@dioceseofnorwich.org
END:VEVENT
BEGIN:VEVENT
DTSTART;TZID=UTC:20240313T200000
DTEND;TZID=UTC:20240313T213000
DTSTAMP:20260423T100709
CREATED:20240304T102644Z
LAST-MODIFIED:20240304T102744Z
UID:10000960-1710360000-1710365400@www.dioceseofnorwich.org
SUMMARY:Parenting Teens Course: online training event
DESCRIPTION:Come and learn all about our brand new Parenting Teens course! Whether you’re a youth leader wanting to engage parents\, or a church leader supporting parents of tweens and teens\, this training event will inspire you with what’s possible when we equip whole families for discipleship. We’ll go through the nuts and bolts of our exciting six-session course and answer any questions you have. By the end of the session\, you’ll feel envisioned and confident to run a Parenting Teens course in your church or community.
URL:https://www.dioceseofnorwich.org/event/parenting-teens-course-online-training-event/2024-03-13/2/
LOCATION:online
CATEGORIES:Children, Youth & Families,Talks,Young Adults
ORGANIZER;CN="BRF":MAILTO:enquiries@brf.org.uk
END:VEVENT
BEGIN:VEVENT
DTSTART;TZID=UTC:20240313T100000
DTEND;TZID=UTC:20240313T113000
DTSTAMP:20260423T100709
CREATED:20240304T102644Z
LAST-MODIFIED:20240304T102744Z
UID:10000959-1710324000-1710329400@www.dioceseofnorwich.org
SUMMARY:Parenting Teens Course: online training event
DESCRIPTION:Come and learn all about our brand new Parenting Teens course! Whether you’re a youth leader wanting to engage parents\, or a church leader supporting parents of tweens and teens\, this training event will inspire you with what’s possible when we equip whole families for discipleship. We’ll go through the nuts and bolts of our exciting six-session course and answer any questions you have. By the end of the session\, you’ll feel envisioned and confident to run a Parenting Teens course in your church or community.
URL:https://www.dioceseofnorwich.org/event/parenting-teens-course-online-training-event/2024-03-13/1/
LOCATION:online
CATEGORIES:Children, Youth & Families,Talks,Young Adults
ORGANIZER;CN="BRF":MAILTO:enquiries@brf.org.uk
END:VEVENT
END:VCALENDAR