BEGIN:VCALENDAR
VERSION:2.0
PRODID:-//Diocese of Norwich - ECPv6.15.11//NONSGML v1.0//EN
CALSCALE:GREGORIAN
METHOD:PUBLISH
X-WR-CALNAME:Diocese of Norwich
X-ORIGINAL-URL:https://www.dioceseofnorwich.org
X-WR-CALDESC:Events for Diocese of Norwich
REFRESH-INTERVAL;VALUE=DURATION:PT1H
X-Robots-Tag:noindex
X-PUBLISHED-TTL:PT1H
BEGIN:VTIMEZONE
TZID:UTC
BEGIN:STANDARD
TZOFFSETFROM:+0000
TZOFFSETTO:+0000
TZNAME:UTC
DTSTART:20240101T000000
END:STANDARD
END:VTIMEZONE
BEGIN:VEVENT
DTSTART;TZID=UTC:20250612T193000
DTEND;TZID=UTC:20250612T203000
DTSTAMP:20260421T193919
CREATED:20250410T143934Z
LAST-MODIFIED:20250410T143934Z
UID:10001715-1749756600-1749760200@www.dioceseofnorwich.org
SUMMARY:Church Law webinar - Baptism\, Marriage\, and Funerals
DESCRIPTION:Led by our Diocesan Registrar\, Stuart Jones\, and Deputy Registrar\, Kevin Wilson\, this practical\, scenarios-based session will look at the law surrounding baptisms\, weddings and funerals. In addition\, the webinar will explore the current law and recent legal updates. There will be time during the session to ask questions. \nThe seminar is open to Clergy and LLMs in the Diocese of Norwich and others with a particular interest in the subject. \nZoom details: \nhttps://dioceseofnorwich-org.zoom.us/j/81278411903?pwd=iMaW3DwaBxk1gKVTFbfjZUGLqFyQma.1 \nMeeting ID: 812 7841 1903 \nPasscode: 630993
URL:https://www.dioceseofnorwich.org/event/church-law-webinar-baptism-marriage-and-funerals/
CATEGORIES:Talks
ATTACH;FMTTYPE=image/png:https://www.dioceseofnorwich.org/wp-content/uploads/2025/04/download-1-e1751553037672.png
END:VEVENT
END:VCALENDAR