BEGIN:VCALENDAR
VERSION:2.0
PRODID:-//Diocese of Norwich - ECPv6.15.11//NONSGML v1.0//EN
CALSCALE:GREGORIAN
METHOD:PUBLISH
X-WR-CALNAME:Diocese of Norwich
X-ORIGINAL-URL:https://www.dioceseofnorwich.org
X-WR-CALDESC:Events for Diocese of Norwich
REFRESH-INTERVAL;VALUE=DURATION:PT1H
X-Robots-Tag:noindex
X-PUBLISHED-TTL:PT1H
BEGIN:VTIMEZONE
TZID:UTC
BEGIN:STANDARD
TZOFFSETFROM:+0000
TZOFFSETTO:+0000
TZNAME:UTC
DTSTART:20230101T000000
END:STANDARD
END:VTIMEZONE
BEGIN:VEVENT
DTSTART;TZID=UTC:20240907T140000
DTEND;TZID=UTC:20240907T163000
DTSTAMP:20260426T042953
CREATED:20240814T091815Z
LAST-MODIFIED:20240823T131122Z
UID:10001169-1725717600-1725726600@www.dioceseofnorwich.org
SUMMARY:Book Launch: 'God's Own Gentlewoman' The Life of Margaret Paston'' by Diane Watt
DESCRIPTION:An afternoon with Diane Watt and Dr. Rob Knee about the life of Margaret Paston
URL:https://www.dioceseofnorwich.org/event/book-launch-gods-own-gentlewoman-the-life-of-margaret-paston-by-diane-watt/
CATEGORIES:Talks
ATTACH;FMTTYPE=image/jpeg:https://www.dioceseofnorwich.org/wp-content/uploads/2024/08/dee939c0-13ea-43f3-9af4-51b043931a0b.__CR0040422500_PT0_SX970_V1___.jpg
END:VEVENT
BEGIN:VEVENT
DTSTART;TZID=UTC:20240927T093000
DTEND;TZID=UTC:20240928T163000
DTSTAMP:20260426T042953
CREATED:20240730T074233Z
LAST-MODIFIED:20240730T074233Z
UID:10001156-1727429400-1727541000@www.dioceseofnorwich.org
SUMMARY:Revelations of Divine Love - a two-day reterat with Gail Adams and Ian Adams
DESCRIPTION:Living with faith\, hope and love in the company of Julian of Norwich. \nIn 1373 Julian of Norwich experienced a remarkable series of visions of Christ\, that she would later call Showings or Revelations of Divine Love.\nOver 650 years on we continue to find ourselves nourished\, moved and challenged by Julian’s prayerful reflections on her experience. We sense\nthat Julian is a gift for our times\, and invite you to join us as we explore excerpts from Revelations of Divine Love. \nThis two-day retreat will offer a spacious mix of teaching\, stillness and contemplative prayer\, with space and time to enjoy and pray in the\nJulian cell\, church and garden. Gail and Ian will be offering a simple and deepening practice of contemplative prayer through the retreat. They will\nbe sharing from their life experiences\, and Ian will be sharing from his poems and photographs.
URL:https://www.dioceseofnorwich.org/event/revelations-of-divine-love-a-two-day-reterat-with-gail-adams-and-ian-adams/
LOCATION:St John the Baptist’s\, Timberhill\, Timber Hill\, Norwich\, NR1 3LA
CATEGORIES:Arts,Prayer,Talks
END:VEVENT
END:VCALENDAR