BEGIN:VCALENDAR
VERSION:2.0
PRODID:-//Diocese of Norwich - ECPv6.15.11//NONSGML v1.0//EN
CALSCALE:GREGORIAN
METHOD:PUBLISH
X-ORIGINAL-URL:https://www.dioceseofnorwich.org
X-WR-CALDESC:Events for Diocese of Norwich
REFRESH-INTERVAL;VALUE=DURATION:PT1H
X-Robots-Tag:noindex
X-PUBLISHED-TTL:PT1H
BEGIN:VTIMEZONE
TZID:UTC
BEGIN:STANDARD
TZOFFSETFROM:+0000
TZOFFSETTO:+0000
TZNAME:UTC
DTSTART:20240101T000000
END:STANDARD
END:VTIMEZONE
BEGIN:VEVENT
DTSTART;TZID=UTC:20250512T193000
DTEND;TZID=UTC:20250512T213000
DTSTAMP:20260425T124503
CREATED:20250327T120701Z
LAST-MODIFIED:20250327T120701Z
UID:10001695-1747078200-1747085400@www.dioceseofnorwich.org
SUMMARY:The Sanctuary Course
DESCRIPTION:An 8-week course designed to help the church support people with mental illness and strengthen mental health.
URL:https://www.dioceseofnorwich.org/event/the-sanctuary-course/2025-05-12/
CATEGORIES:AWA,Clergy training & learning,Education,Social & community concerns
END:VEVENT
BEGIN:VEVENT
DTSTART;TZID=UTC:20250519T193000
DTEND;TZID=UTC:20250519T213000
DTSTAMP:20260425T124503
CREATED:20250327T120701Z
LAST-MODIFIED:20250327T120701Z
UID:10001696-1747683000-1747690200@www.dioceseofnorwich.org
SUMMARY:The Sanctuary Course
DESCRIPTION:An 8-week course designed to help the church support people with mental illness and strengthen mental health.
URL:https://www.dioceseofnorwich.org/event/the-sanctuary-course/2025-05-19/
CATEGORIES:AWA,Clergy training & learning,Education,Social & community concerns
END:VEVENT
BEGIN:VEVENT
DTSTART;TZID=UTC:20250522T103000
DTEND;TZID=UTC:20250522T150000
DTSTAMP:20260425T124503
CREATED:20250225T101707Z
LAST-MODIFIED:20250225T101707Z
UID:10001671-1747909800-1747926000@www.dioceseofnorwich.org
SUMMARY:Christians and Assisted Dying - Day Conference
DESCRIPTION:A day conference for clergy\, ordinands and laity of all denominations organised by The Guild of All Souls with The Shrine of Our Lady of Walsingham. \nKEYNOTE SPEAKERS: \nIncarnation – what does it mean for us? The Revd Fr Andrew Wenzel SSC\, Vice Principal and Director of Pastoral Studies at St Stephen’s House\, Oxford. \nAttitudes to death – what should we think? Teresa Lynch\, RN\, MSc\, founder member of Pro-life Nurses UK. \nAssisted dying – a Christian response. Dr Simon Eyre MA\, FRCP\, FRCGP\, GP (retired) member of the Church of England General Synod.
URL:https://www.dioceseofnorwich.org/event/christians-and-assisted-dying-day-conference/
LOCATION:The Shrine of Our Lady of Walsingham\, Walsingham\, Norfolk\, NR22 6BP
CATEGORIES:Clergy training & learning,Education,Social & community concerns,Talks
END:VEVENT
BEGIN:VEVENT
DTSTART;TZID=UTC:20250522T104500
DTEND;TZID=UTC:20250522T144500
DTSTAMP:20260425T124503
CREATED:20250220T145505Z
LAST-MODIFIED:20250220T145505Z
UID:10001665-1747910700-1747925100@www.dioceseofnorwich.org
SUMMARY:Christians and Assisted Dying
DESCRIPTION:Day Conference open to clergy\, ordinands and laity of all denominations.\n£25 including coffee/tea and 2 course lunch.\nTo book\, email Maureen Howard: mihoward@btinternet.com\nKeynote Speakers: The Revd Dr Andreas Wenzel: ‘Incarnation – What does it mean for us?\, Teresa Lynch RN: ‘Attitudes to Death – What should we think?’; Dr Simon Eyre FRCP: ‘Assisted Dying – A Christian Response’.\nOrganised by The Guild of All Souls and The Shrine of Our Lady of Walsingham.
URL:https://www.dioceseofnorwich.org/event/christians-and-assisted-dying/
LOCATION:The Shrine of Our Lady of Walsingham\, Walsingham\, Norfolk\, NR22 6BP
CATEGORIES:Clergy training & learning,Social & community concerns,Talks
ATTACH;FMTTYPE=image/png:https://www.dioceseofnorwich.org/wp-content/uploads/2025/02/Guild-of-All-Souls-2025-Walsingham-conference.png
END:VEVENT
BEGIN:VEVENT
DTSTART;TZID=UTC:20250526T193000
DTEND;TZID=UTC:20250526T213000
DTSTAMP:20260425T124503
CREATED:20250327T120701Z
LAST-MODIFIED:20250327T120701Z
UID:10001697-1748287800-1748295000@www.dioceseofnorwich.org
SUMMARY:The Sanctuary Course
DESCRIPTION:An 8-week course designed to help the church support people with mental illness and strengthen mental health.
URL:https://www.dioceseofnorwich.org/event/the-sanctuary-course/2025-05-26/
CATEGORIES:AWA,Clergy training & learning,Education,Social & community concerns
END:VEVENT
BEGIN:VEVENT
DTSTART;TZID=UTC:20250602T193000
DTEND;TZID=UTC:20250602T213000
DTSTAMP:20260425T124503
CREATED:20250327T120701Z
LAST-MODIFIED:20250327T120701Z
UID:10001698-1748892600-1748899800@www.dioceseofnorwich.org
SUMMARY:The Sanctuary Course
DESCRIPTION:An 8-week course designed to help the church support people with mental illness and strengthen mental health.
URL:https://www.dioceseofnorwich.org/event/the-sanctuary-course/2025-06-02/
CATEGORIES:AWA,Clergy training & learning,Education,Social & community concerns
END:VEVENT
BEGIN:VEVENT
DTSTART;TZID=UTC:20250609T193000
DTEND;TZID=UTC:20250609T213000
DTSTAMP:20260425T124503
CREATED:20250327T120701Z
LAST-MODIFIED:20250327T120701Z
UID:10001699-1749497400-1749504600@www.dioceseofnorwich.org
SUMMARY:The Sanctuary Course
DESCRIPTION:An 8-week course designed to help the church support people with mental illness and strengthen mental health.
URL:https://www.dioceseofnorwich.org/event/the-sanctuary-course/2025-06-09/
CATEGORIES:AWA,Clergy training & learning,Education,Social & community concerns
END:VEVENT
BEGIN:VEVENT
DTSTART;TZID=UTC:20250616T193000
DTEND;TZID=UTC:20250616T213000
DTSTAMP:20260425T124503
CREATED:20250327T120701Z
LAST-MODIFIED:20250327T120701Z
UID:10001700-1750102200-1750109400@www.dioceseofnorwich.org
SUMMARY:The Sanctuary Course
DESCRIPTION:An 8-week course designed to help the church support people with mental illness and strengthen mental health.
URL:https://www.dioceseofnorwich.org/event/the-sanctuary-course/2025-06-16/
CATEGORIES:AWA,Clergy training & learning,Education,Social & community concerns
END:VEVENT
BEGIN:VEVENT
DTSTART;TZID=UTC:20250623T193000
DTEND;TZID=UTC:20250623T213000
DTSTAMP:20260425T124503
CREATED:20250327T120701Z
LAST-MODIFIED:20250327T120701Z
UID:10001701-1750707000-1750714200@www.dioceseofnorwich.org
SUMMARY:The Sanctuary Course
DESCRIPTION:An 8-week course designed to help the church support people with mental illness and strengthen mental health.
URL:https://www.dioceseofnorwich.org/event/the-sanctuary-course/2025-06-23/
CATEGORIES:AWA,Clergy training & learning,Education,Social & community concerns
END:VEVENT
BEGIN:VEVENT
DTSTART;TZID=UTC:20250630T193000
DTEND;TZID=UTC:20250630T213000
DTSTAMP:20260425T124503
CREATED:20250327T120701Z
LAST-MODIFIED:20250327T120701Z
UID:10001702-1751311800-1751319000@www.dioceseofnorwich.org
SUMMARY:The Sanctuary Course
DESCRIPTION:An 8-week course designed to help the church support people with mental illness and strengthen mental health.
URL:https://www.dioceseofnorwich.org/event/the-sanctuary-course/2025-06-30/
CATEGORIES:AWA,Clergy training & learning,Education,Social & community concerns
END:VEVENT
BEGIN:VEVENT
DTSTART;TZID=UTC:20260217T190000
DTEND;TZID=UTC:20260217T200000
DTSTAMP:20260425T124503
CREATED:20260205T101900Z
LAST-MODIFIED:20260205T112302Z
UID:10001841-1771354800-1771358400@www.dioceseofnorwich.org
SUMMARY:Community Meeting - East Rudham
DESCRIPTION:Fr Clive and Fr Edward invite you to a Community Meeting to discuss starting regular services again at St Mary’s\, East Rudham\, together with occasional services at St Peter’s\, West Rudham. \nCome along and share your ideas! \nShrove Tuesday refreshments will be provided. \n \nLocation: St Mary’s Church\, Fakenham Road\, East Rudham\, PE31 8RA \nTime & Date: 7pm on Tuesday 17 February 2026
URL:https://www.dioceseofnorwich.org/event/community-meeting-east-rudham/
CATEGORIES:Social & community concerns
ATTACH;FMTTYPE=image/png:https://www.dioceseofnorwich.org/wp-content/uploads/2026/02/Rudham-events.png
END:VEVENT
END:VCALENDAR