BEGIN:VCALENDAR
VERSION:2.0
PRODID:-//Diocese of Norwich - ECPv6.15.11//NONSGML v1.0//EN
CALSCALE:GREGORIAN
METHOD:PUBLISH
X-ORIGINAL-URL:https://www.dioceseofnorwich.org
X-WR-CALDESC:Events for Diocese of Norwich
REFRESH-INTERVAL;VALUE=DURATION:PT1H
X-Robots-Tag:noindex
X-PUBLISHED-TTL:PT1H
BEGIN:VTIMEZONE
TZID:UTC
BEGIN:STANDARD
TZOFFSETFROM:+0000
TZOFFSETTO:+0000
TZNAME:UTC
DTSTART:20240101T000000
END:STANDARD
END:VTIMEZONE
BEGIN:VEVENT
DTSTART;TZID=UTC:20250615T190000
DTEND;TZID=UTC:20250615T210000
DTSTAMP:20260426T012314
CREATED:20250603T120721Z
LAST-MODIFIED:20250603T120808Z
UID:10001718-1750014000-1750021200@www.dioceseofnorwich.org
SUMMARY:Caroline Cobb: Telling the Story
DESCRIPTION:This June\, you’re invited to experience the “Big Story” of Scripture with Texas-based singer-songwriter Caroline Cobb. \nWith every concert\, Caroline helps listeners rehearse\, remember and respond to the gospel through biblically-rich songs and storytelling. \nThis will be Caroline’s first-ever run of shows in England — and it may not happen again anytime soon — so these shows should be special! \nCome slow your pace\, and enjoy an evening of hearing the Story sung over you and with you. \nDoors open 6:30pm | Tickets: Adults – £12 / Youth (under 18s) – £6 \nBook tickets at: https://stmarymagdalenechurch.churchsuite.com/events/1sgmel8k \nFor more information: 01493 655523 | admin@stmmgorleston.org.uk | www.stmmgorleston.org.uk
URL:https://www.dioceseofnorwich.org/event/caroline-cobb-telling-the-story/
LOCATION:St Mary Magdalene Church\, Gorleston\, Magdalen Square\, Gorleston-on-Sea\, United Kingdom
CATEGORIES:Arts
ATTACH;FMTTYPE=image/jpeg:https://www.dioceseofnorwich.org/wp-content/uploads/2025/06/Caroline-Cobb-scaled.jpg
END:VEVENT
BEGIN:VEVENT
DTSTART;TZID=UTC:20250703T123000
DTEND;TZID=UTC:20250703T133000
DTSTAMP:20260426T012314
CREATED:20250218T163311Z
LAST-MODIFIED:20250218T163311Z
UID:10001658-1751545800-1751549400@www.dioceseofnorwich.org
SUMMARY:Thursday Lunchtime Organ Recital
DESCRIPTION:A series of organ recitals by well known local organists.
URL:https://www.dioceseofnorwich.org/event/thursday-lunchtime-organ-recital/2025-07-03/
LOCATION:St Nicholas’ Church\, North Walsham\, Market Pl\, North Walsham\, NR28 9BT\, United Kingdom
CATEGORIES:Arts
ORGANIZER;CN="Church Organiser":MAILTO:hello@thechurchorganiser.org
END:VEVENT
BEGIN:VEVENT
DTSTART;TZID=UTC:20250709T090000
DTEND;TZID=UTC:20250713T170000
DTSTAMP:20260426T012314
CREATED:20250704T133235Z
LAST-MODIFIED:20250704T133324Z
UID:10001721-1752051600-1752426000@www.dioceseofnorwich.org
SUMMARY:Five Churches Festival
DESCRIPTION:Five Churches Festival is back for its 3rd year! Once again\, the five churches of the Glaven Valley Benefice – Blakeney\, Cley\, Glandford\, Letheringsett and Wiveton – each with their own unique architecture and atmosphere\, will play host to an exciting and varied programme of music from 9th- 13th July. Featuring musicians of international acclaim alongside established professionals from across Norfolk\, and talented young musicians from Norwich School\, the Festival provides five days of high-level concerts with something for everyone. Chamber music\, jazz\, brass\, and an idyllic finale of English music for strings. \nThe Festival Service on Sunday 13th will have as its guest preacher Michael Wakelin – former Head of Religious Broadcasting at the BBC and Series Producer of Songs of Praise. \nFull details\, online booking and how to become a Festival Friend can be found at Home | FiveChurchesFestival | Norfolk\, UK
URL:https://www.dioceseofnorwich.org/event/five-churches-festival/
CATEGORIES:Arts
ATTACH;FMTTYPE=image/png:https://www.dioceseofnorwich.org/wp-content/uploads/2025/07/Screenshot-2025-07-04-143257.png
END:VEVENT
BEGIN:VEVENT
DTSTART;TZID=UTC:20250710T123000
DTEND;TZID=UTC:20250710T133000
DTSTAMP:20260426T012314
CREATED:20250218T163311Z
LAST-MODIFIED:20250218T163311Z
UID:10001659-1752150600-1752154200@www.dioceseofnorwich.org
SUMMARY:Thursday Lunchtime Organ Recital
DESCRIPTION:A series of organ recitals by well known local organists.
URL:https://www.dioceseofnorwich.org/event/thursday-lunchtime-organ-recital/2025-07-10/
LOCATION:St Nicholas’ Church\, North Walsham\, Market Pl\, North Walsham\, NR28 9BT\, United Kingdom
CATEGORIES:Arts
ORGANIZER;CN="Church Organiser":MAILTO:hello@thechurchorganiser.org
END:VEVENT
BEGIN:VEVENT
DTSTART;TZID=UTC:20250717T123000
DTEND;TZID=UTC:20250717T133000
DTSTAMP:20260426T012314
CREATED:20250218T163311Z
LAST-MODIFIED:20250218T163311Z
UID:10001660-1752755400-1752759000@www.dioceseofnorwich.org
SUMMARY:Thursday Lunchtime Organ Recital
DESCRIPTION:A series of organ recitals by well known local organists.
URL:https://www.dioceseofnorwich.org/event/thursday-lunchtime-organ-recital/2025-07-17/
LOCATION:St Nicholas’ Church\, North Walsham\, Market Pl\, North Walsham\, NR28 9BT\, United Kingdom
CATEGORIES:Arts
ORGANIZER;CN="Church Organiser":MAILTO:hello@thechurchorganiser.org
END:VEVENT
BEGIN:VEVENT
DTSTART;TZID=UTC:20250724T123000
DTEND;TZID=UTC:20250724T133000
DTSTAMP:20260426T012314
CREATED:20250218T163311Z
LAST-MODIFIED:20250218T163311Z
UID:10001661-1753360200-1753363800@www.dioceseofnorwich.org
SUMMARY:Thursday Lunchtime Organ Recital
DESCRIPTION:A series of organ recitals by well known local organists.
URL:https://www.dioceseofnorwich.org/event/thursday-lunchtime-organ-recital/2025-07-24/
LOCATION:St Nicholas’ Church\, North Walsham\, Market Pl\, North Walsham\, NR28 9BT\, United Kingdom
CATEGORIES:Arts
ORGANIZER;CN="Church Organiser":MAILTO:hello@thechurchorganiser.org
END:VEVENT
BEGIN:VEVENT
DTSTART;TZID=UTC:20250731T123000
DTEND;TZID=UTC:20250731T133000
DTSTAMP:20260426T012314
CREATED:20250218T163311Z
LAST-MODIFIED:20250218T163311Z
UID:10001662-1753965000-1753968600@www.dioceseofnorwich.org
SUMMARY:Thursday Lunchtime Organ Recital
DESCRIPTION:A series of organ recitals by well known local organists.
URL:https://www.dioceseofnorwich.org/event/thursday-lunchtime-organ-recital/2025-07-31/
LOCATION:St Nicholas’ Church\, North Walsham\, Market Pl\, North Walsham\, NR28 9BT\, United Kingdom
CATEGORIES:Arts
ORGANIZER;CN="Church Organiser":MAILTO:hello@thechurchorganiser.org
END:VEVENT
BEGIN:VEVENT
DTSTART;TZID=UTC:20260418T193000
DTEND;TZID=UTC:20260418T213000
DTSTAMP:20260426T012314
CREATED:20260410T104645Z
LAST-MODIFIED:20260410T104723Z
UID:10001858-1776540600-1776547800@www.dioceseofnorwich.org
SUMMARY:An evening of African music and dance
DESCRIPTION:An evening of African music and dance with The African Choir of Norfolk – recently seen performing at the installation of the Archbishop of Canterbury. \nSt Catherine’s Church\, Ludham. Tickets £10 from Ludham butchers or on the door. \nSaturday 18 April\, 7.30pm
URL:https://www.dioceseofnorwich.org/event/an-evening-of-african-music-and-dance/
CATEGORIES:Arts
ATTACH;FMTTYPE=image/png:https://www.dioceseofnorwich.org/wp-content/uploads/2026/04/African-Choir-image-for-Facebook.png
END:VEVENT
BEGIN:VEVENT
DTSTART;TZID=UTC:20260502T190000
DTEND;TZID=UTC:20260502T213000
DTSTAMP:20260426T012314
CREATED:20260410T110854Z
LAST-MODIFIED:20260410T110854Z
UID:10001860-1777748400-1777757400@www.dioceseofnorwich.org
SUMMARY:Henry Purcell and the music of Westminster Abbey
DESCRIPTION:Aylsham Parish Church is hosting Patrick Craig after a really successful visit last year. He will be speaking about Henry Purcell and the Music of Westminster Abbey. \nSaturday 2nd May at 7pm. Aylsham Parish Church. Cheese and wine provided. \nPatrick’s biography can be found on the following link: Patrick Craig (Counter-tenor) – Short Biography \nTickets available via the QR code\, at JB Postle or on the door. £10 adults\, £5 under 18s.
URL:https://www.dioceseofnorwich.org/event/henry-purcell-and-the-music-of-westminster-abbey/
CATEGORIES:Arts
ATTACH;FMTTYPE=image/png:https://www.dioceseofnorwich.org/wp-content/uploads/2026/04/Patrick-Craig.png
END:VEVENT
END:VCALENDAR