BEGIN:VCALENDAR
VERSION:2.0
PRODID:-//Diocese of Norwich - ECPv6.15.11//NONSGML v1.0//EN
CALSCALE:GREGORIAN
METHOD:PUBLISH
X-WR-CALNAME:Diocese of Norwich
X-ORIGINAL-URL:https://www.dioceseofnorwich.org
X-WR-CALDESC:Events for Diocese of Norwich
REFRESH-INTERVAL;VALUE=DURATION:PT1H
X-Robots-Tag:noindex
X-PUBLISHED-TTL:PT1H
BEGIN:VTIMEZONE
TZID:UTC
BEGIN:STANDARD
TZOFFSETFROM:+0000
TZOFFSETTO:+0000
TZNAME:UTC
DTSTART:20230101T000000
END:STANDARD
END:VTIMEZONE
BEGIN:VEVENT
DTSTART;VALUE=DATE:20240508
DTEND;VALUE=DATE:20240512
DTSTAMP:20260425T004011
CREATED:20240419T090056Z
LAST-MODIFIED:20240422T112808Z
UID:10000989-1715126400-1715471999@www.dioceseofnorwich.org
SUMMARY:Julian of Norwich May Festival
DESCRIPTION:Julian of Norwich May Festival including Julian Lecture delivered by former Archbishop of Canterbury Rowan Williams \nThe Julian of Norwich Festival week in May will include a sculpture workshop\, book launch\, the performance of a new play\, and The Friends’ 40th anniversary Julian Lecture by former Archbishop of Canterbury Rowan Williams. \nThis year’s Julian Festival will run from Wednesday 8 May to Friday 10 May leading to the Julian Festival Day on Saturday 11 May. The festival is organised by the Friends of Julian of Norwich and this year is the 40th anniversary of the formation of the Friends.
URL:https://www.dioceseofnorwich.org/event/julian-of-norwich-may-festival/
CATEGORIES:Arts,Education,Talks
END:VEVENT
BEGIN:VEVENT
DTSTART;TZID=UTC:20240510T110000
DTEND;TZID=UTC:20240510T160000
DTSTAMP:20260425T004011
CREATED:20240229T150604Z
LAST-MODIFIED:20240229T150604Z
UID:10000952-1715338800-1715356800@www.dioceseofnorwich.org
SUMMARY:Exhibition: 50 highly colourful patchwork quilt tops
DESCRIPTION:This event is the culmination of months of work by quilt and block makers from all over the UK. This weekend exhibition will be held in the church prior to the planned church Hug on Monday 13 May \nThe exhibition will display over 50 highly colourful patchwork quilt tops made by people from all over the U.K. \nAny donations will help the Friends of St Andrew’s Church Little Massingham raise funds for the church roof as several years ago thieves stole the lead from it. \nLater in the year Quilts 4 Care Leavers will add the backing\, wadding and topstitching to the quilts. The completed quits called Hugs will then be given to young care leavers who leave the care system every year.
URL:https://www.dioceseofnorwich.org/event/exhibition-50-highly-colourful-patchwork-quilt-tops/2024-05-10/
LOCATION:St Andrew’s Church\, Little Massingham\, St Andrew’s Church Church Lane Little Massingham Norfolk\, PE32 2JR
CATEGORIES:Arts
END:VEVENT
BEGIN:VEVENT
DTSTART;TZID=UTC:20240511T110000
DTEND;TZID=UTC:20240511T160000
DTSTAMP:20260425T004011
CREATED:20240229T150604Z
LAST-MODIFIED:20240229T150604Z
UID:10000953-1715425200-1715443200@www.dioceseofnorwich.org
SUMMARY:Exhibition: 50 highly colourful patchwork quilt tops
DESCRIPTION:This event is the culmination of months of work by quilt and block makers from all over the UK. This weekend exhibition will be held in the church prior to the planned church Hug on Monday 13 May \nThe exhibition will display over 50 highly colourful patchwork quilt tops made by people from all over the U.K. \nAny donations will help the Friends of St Andrew’s Church Little Massingham raise funds for the church roof as several years ago thieves stole the lead from it. \nLater in the year Quilts 4 Care Leavers will add the backing\, wadding and topstitching to the quilts. The completed quits called Hugs will then be given to young care leavers who leave the care system every year.
URL:https://www.dioceseofnorwich.org/event/exhibition-50-highly-colourful-patchwork-quilt-tops/2024-05-11/
LOCATION:St Andrew’s Church\, Little Massingham\, St Andrew’s Church Church Lane Little Massingham Norfolk\, PE32 2JR
CATEGORIES:Arts
END:VEVENT
BEGIN:VEVENT
DTSTART;TZID=UTC:20240512T130000
DTEND;TZID=UTC:20240512T160000
DTSTAMP:20260425T004011
CREATED:20240229T163520Z
LAST-MODIFIED:20240229T163520Z
UID:10000957-1715518800-1715529600@www.dioceseofnorwich.org
SUMMARY:Exhibition: 50 highly colourful patchwork quilt tops
DESCRIPTION:This event is the culmination of months of work by quilt and block makers from all over the UK. This weekend exhibition will be held in the church prior to the planned church Hug on Monday 13 May \nThe exhibition will display over 50 highly colourful patchwork quilt tops made by people from all over the U.K. \nAny donations will help the Friends of St Andrew’s Church Little Massingham raise funds for the church roof as several years ago thieves stole the lead from it. \nLater in the year Quilts 4 Care Leavers will add the backing\, wadding and topstitching to the quilts. The completed quits called Hugs will then be given to young care leavers who leave the care system every year.
URL:https://www.dioceseofnorwich.org/event/exhibition-50-highly-colourful-patchwork-quilt-tops-2/
LOCATION:St Andrew’s Church\, Little Massingham\, St Andrew’s Church Church Lane Little Massingham Norfolk\, PE32 2JR
CATEGORIES:Arts
END:VEVENT
BEGIN:VEVENT
DTSTART;TZID=UTC:20240513T103000
DTEND;TZID=UTC:20240513T110000
DTSTAMP:20260425T004011
CREATED:20240229T160002Z
LAST-MODIFIED:20240229T160002Z
UID:10000956-1715596200-1715598000@www.dioceseofnorwich.org
SUMMARY:Let’s give a Hug Day
DESCRIPTION:On Monday 13th May is Let’s Give Hug Day when we surround the church with over 50 patchwork tops\, giving the church its much needed hug! We will gather at 10.30 am ready for the hug at 11.00 am. \nThe event is the culmination of months of work by quilt and block makers from all over the UK. Prior to Monday 13th May an exhibition will be held in the church from Friday 10th to 12th Sunday May. \nThe exhibition will display over 50 highly colourful patchwork quilt tops made by people from all over the U.K. The exhibition is free. Any donations will help the Friends of St Andrew’s Church Little Massingham raise funds for the church roof as several years ago thieves stole the lead from it. \nLater in the year Quilts 4 Care Leavers will add the backing\, wadding and topstitching to the quilts. The completed quits called Hugs will then be given to young care leavers who leave the care system every year.
URL:https://www.dioceseofnorwich.org/event/lets-give-a-hug-day/
LOCATION:St Andrew’s Church\, Little Massingham\, St Andrew’s Church Church Lane Little Massingham Norfolk\, PE32 2JR
CATEGORIES:Arts,Church buildings,Talks
END:VEVENT
BEGIN:VEVENT
DTSTART;TZID=UTC:20240518T150000
DTEND;TZID=UTC:20240518T170000
DTSTAMP:20260425T004011
CREATED:20240515T134954Z
LAST-MODIFIED:20240515T134954Z
UID:10001028-1716044400-1716051600@www.dioceseofnorwich.org
SUMMARY:Organ recital at Brancaster
DESCRIPTION:Ben Horden is passionate about Baroque music and he is playing music by Bach Mozart Wesley and Haydn \nAs well as performing Ben will tell us why he loves Baroque music. Tea and cakes are served after the recital.
URL:https://www.dioceseofnorwich.org/event/organ-recital-at-brancaster/
CATEGORIES:Arts
END:VEVENT
BEGIN:VEVENT
DTSTART;TZID=UTC:20240518T190000
DTEND;TZID=UTC:20240518T210000
DTSTAMP:20260425T004011
CREATED:20240228T095702Z
LAST-MODIFIED:20240228T125041Z
UID:10000948-1716058800-1716066000@www.dioceseofnorwich.org
SUMMARY:"Fuzzy" - A contemporary drama inspired by the book of Job
DESCRIPTION:Scart Art Presents: The 10th anniversary production of “Fuzzy”\, an entertaining\, challenging\, and thought-provoking original drama written by local Vicar\, writer and Director Dean Akrill\, performed by a talented local cast. Inspired by the book of Job\, exploring themes around mental health\, sexuality\, faith and relationships. \nJacob Jobe is feeling unwell\, but he has his wayward daughter’s Teddy bear to comfort him and his best friend to steer him doggedly back onto the “right” path. Meanwhile\, romance blossoms\, the last pint of cider is drunk\, and as Jobe sinks ever deeper into despair he seeks a fair trial from God- whilst the Devil searches desperately for a chocolate biscuit… \nOur fantastic cast is looking forward to presenting this ambitious new production of an original play. \nRefreshments will be available.\nNot recommended for children under 15
URL:https://www.dioceseofnorwich.org/event/fuzzy-a-contemporary-drama-inspired-by-the-book-of-job/2024-05-18/
LOCATION:St. Cuthbert’s Church\, Sprowston\, St. Cuthbert's Church Wroxham Road\, Sprowston\,\, NR7 8TZ
CATEGORIES:Arts
ORGANIZER;CN="Dean Akrill":MAILTO:dean@sprowston.org.uk
END:VEVENT
BEGIN:VEVENT
DTSTART;TZID=UTC:20240518T190000
DTEND;TZID=UTC:20240518T230000
DTSTAMP:20260425T004011
CREATED:20240408T211819Z
LAST-MODIFIED:20240408T211819Z
UID:10000987-1716058800-1716073200@www.dioceseofnorwich.org
SUMMARY:Super Swing Band
DESCRIPTION:Join us on Saturday 18th May for the return of the Super Swing Band at East Harling Parish Church 7-11pm. Music from the 40s and 50s. Come and listen or have a dance in the aisles.\nLicensed bar and refreshments.\nTickets £10 from Dorothy on 01953717128
URL:https://www.dioceseofnorwich.org/event/super-swing-band/
CATEGORIES:Arts
END:VEVENT
BEGIN:VEVENT
DTSTART;TZID=UTC:20240519T190000
DTEND;TZID=UTC:20240519T210000
DTSTAMP:20260425T004011
CREATED:20240228T095702Z
LAST-MODIFIED:20240228T125041Z
UID:10000951-1716145200-1716152400@www.dioceseofnorwich.org
SUMMARY:"Fuzzy" - A contemporary drama inspired by the book of Job
DESCRIPTION:Scart Art Presents: The 10th anniversary production of “Fuzzy”\, an entertaining\, challenging\, and thought-provoking original drama written by local Vicar\, writer and Director Dean Akrill\, performed by a talented local cast. Inspired by the book of Job\, exploring themes around mental health\, sexuality\, faith and relationships. \nJacob Jobe is feeling unwell\, but he has his wayward daughter’s Teddy bear to comfort him and his best friend to steer him doggedly back onto the “right” path. Meanwhile\, romance blossoms\, the last pint of cider is drunk\, and as Jobe sinks ever deeper into despair he seeks a fair trial from God- whilst the Devil searches desperately for a chocolate biscuit… \nOur fantastic cast is looking forward to presenting this ambitious new production of an original play. \nRefreshments will be available.\nNot recommended for children under 15
URL:https://www.dioceseofnorwich.org/event/fuzzy-a-contemporary-drama-inspired-by-the-book-of-job/2024-05-19/
LOCATION:St. Cuthbert’s Church\, Sprowston\, St. Cuthbert's Church Wroxham Road\, Sprowston\,\, NR7 8TZ
CATEGORIES:Arts
ORGANIZER;CN="Dean Akrill":MAILTO:dean@sprowston.org.uk
END:VEVENT
BEGIN:VEVENT
DTSTART;TZID=UTC:20240531T190000
DTEND;TZID=UTC:20240531T213000
DTSTAMP:20260425T004011
CREATED:20240419T085639Z
LAST-MODIFIED:20240419T085639Z
UID:10000991-1717182000-1717191000@www.dioceseofnorwich.org
SUMMARY:A Concert from Chanters Jigge
DESCRIPTION:With ‘A Pocketful of Merriments’\, a new programme for 2024\, Chanter’s Jigge present a feast of traditional song and dance music from around the British Isles and beyond. \nFolk songs\, Morris tunes\, sea shanties and country dances . All played and sung on a unique array of traditional\, ancient and modern instruments and knitted together with anecdotes\, and stories. \nToe-tapping\, clapping along\, and joining in with choruses will not be compulsory but may be hard to resist – you have been warned! \nTickets by phone or via the Eventbrite link on the Bergh Apton website. A booking fee applies to online bookings
URL:https://www.dioceseofnorwich.org/event/a-concert-from-chanters-jigge/
CATEGORIES:Arts
END:VEVENT
END:VCALENDAR